BEGIN:VCALENDAR
VERSION:2.0
PRODID:-//Tanzen im Servus - ECPv6.0.12//NONSGML v1.0//EN
CALSCALE:GREGORIAN
METHOD:PUBLISH
X-ORIGINAL-URL:https://tanzen-im-servus.de
X-WR-CALDESC:Veranstaltungen für Tanzen im Servus
REFRESH-INTERVAL;VALUE=DURATION:PT1H
X-Robots-Tag:noindex
X-PUBLISHED-TTL:PT1H
BEGIN:VTIMEZONE
TZID:UTC
BEGIN:STANDARD
TZOFFSETFROM:+0000
TZOFFSETTO:+0000
TZNAME:UTC
DTSTART:20260101T000000
END:STANDARD
END:VTIMEZONE
BEGIN:VEVENT
DTSTART;TZID=UTC:20261031T193000
DTEND;TZID=UTC:20261101T010000
DTSTAMP:20260424T185738
CREATED:20251108T182612Z
LAST-MODIFIED:20260303T071118Z
UID:3779-1793475000-1793494800@tanzen-im-servus.de
SUMMARY:die legendäre SERVUS Halloween Party
DESCRIPTION:Salsa-Bachata-Kizomba mit DJane AngelKizz – Halloween-Kult-Party   im Servus\n\nVerkleidet oder nicht – ganz egal kommen wie man möchte und Spaß haben\n\nBeginn: 19:30 Uhr\ngünstige GetränkepreiseSchauriges FingerfoodHalloween-Sweetsgruselige Deko – DU wirst das Servus wie jedes Jahr nicht mehr wieder erkennen \n\n🔝 beste Musik in familiärem Ambiente ❤️\n🔝 toller *NEUER* Tanzboden\n(Bitte nur mit sauberen Schuhen/Tanzschuhen betreten-DANKE 🙏)\n🔝 Qualität steht bei uns immer an erster Stelle! 🔝🔝🔝\n🔝 Tanzen\, Chillen\, Freunde treffen\, einfach eine tolle Zeit haben 💃🕺\n🔝 Gekühlte Getränke zu günstigen Preisen an unserer Bar genießen 🍻🍹 \nWir freuen uns sehr auf Euch 🥰 \n♥️ Eure SERVUS Mädels ♥️
URL:https://tanzen-im-servus.de/event/die-legendaere-servus-halloween-party/
LOCATION:Servus Truchtlaching\, Chiemseestr. 3\, Truchtlaching\, Bayern\, 83376\, Deutschland
CATEGORIES:Parties
ATTACH;FMTTYPE=image/png:https://tanzen-im-servus.de/wp-content/uploads/2024/12/Bildschirm­foto-2024-12-01-um-18.42.58.png
END:VEVENT
BEGIN:VEVENT
DTSTART;TZID=UTC:20261105T190000
DTEND;TZID=UTC:20261105T233000
DTSTAMP:20260424T185738
CREATED:20251108T175751Z
LAST-MODIFIED:20260303T071102Z
UID:3733-1793905200-1793921400@tanzen-im-servus.de
SUMMARY:Discofox Party
DESCRIPTION:Wie jeden 1. DONNERSTAG IM MONAT tanzen wir Discofox im Servus \n\nDJ Martina sorgt für beste und abwechslungsreiche Musik\n\n\nTanzstudio Servus\, Chiemseestraße 3\, 83376 Truchtlaching\n\n\n🔝 beste Musik in familiärem Ambiente ❤️\n🔝 toller *NEUER* Tanzboden\n(Bitte nur mit sauberen Schuhen/Tanzschuhen betreten-DANKE 🙏)\n🔝 Qualität steht bei uns immer an erster Stelle! 🔝🔝🔝\n🔝 Tanzen\, Chillen\, Freunde treffen\, einfach eine tolle Zeit haben 💃🕺\n🔝 Gekühlte Getränke zu günstigen Preisen an unserer Bar genießen 🍻🍹 \nWir freuen uns sehr auf Euch 🥰 \n♥️ Eure SERVUS Mädels ♥️
URL:https://tanzen-im-servus.de/event/discofox-party-12/
LOCATION:Servus Truchtlaching\, Chiemseestr. 3\, Truchtlaching\, Bayern\, 83376\, Deutschland
CATEGORIES:Parties
ATTACH;FMTTYPE=image/png:https://tanzen-im-servus.de/wp-content/uploads/2025/11/Bildschirmfoto-2025-11-08-um-18.41.06.png
END:VEVENT
BEGIN:VEVENT
DTSTART;TZID=UTC:20261107T193000
DTEND;TZID=UTC:20261108T010000
DTSTAMP:20260424T185738
CREATED:20260106T142302Z
LAST-MODIFIED:20260303T070924Z
UID:3904-1794079800-1794099600@tanzen-im-servus.de
SUMMARY:Salsa Bachata Kizomba Party
DESCRIPTION:Salsa-Bachata-Kizomba – Party\nmit DJane AngelKizz \nDarf gerne geteilt werden ☺️ \n🔝 beste Musik in familiärem Ambiente ❤️\n🔝 toller *NEUER* Tanzboden\n(Bitte nur mit sauberen Schuhen/Tanzschuhen betreten-DANKE 🙏)\n🔝 Qualität steht bei uns immer an erster Stelle! 🔝🔝🔝\n🔝 Tanzen\, Chillen\, Freunde treffen\, einfach eine tolle Zeit haben 💃🕺\n🔝 Gekühlte Getränke zu günstigen Preisen an unserer Bar genießen 🍻🍹 \nWir freuen uns sehr auf Euch 🥰 \n♥️ Eure SERVUS Mädels ♥️
URL:https://tanzen-im-servus.de/event/salsa-bachata-kizomba-party-5/
LOCATION:Servus Truchtlaching\, Chiemseestr. 3\, Truchtlaching\, Bayern\, 83376\, Deutschland
CATEGORIES:Parties
ATTACH;FMTTYPE=image/png:https://tanzen-im-servus.de/wp-content/uploads/2026/01/Bildschirmfoto-2026-01-07-um-18.05.51.png
END:VEVENT
BEGIN:VEVENT
DTSTART;TZID=UTC:20261112T190000
DTEND;TZID=UTC:20261112T233000
DTSTAMP:20260424T185738
CREATED:20251108T182120Z
LAST-MODIFIED:20260303T071037Z
UID:3770-1794510000-1794526200@tanzen-im-servus.de
SUMMARY:Boogie Party
DESCRIPTION:Boogie Woogie Party am 2. Donnerstag im Monat im Servus in Truchtlaching\nEin Abend mit bester und abwechslungsreicher Boogie-Musik.\n\n🔝 beste Musik in familiärem Ambiente ❤️\n🔝 toller *NEUER* Tanzboden\n(Bitte nur mit sauberen Schuhen/Tanzschuhen betreten-DANKE 🙏)\n🔝 Qualität steht bei uns immer an erster Stelle! 🔝🔝🔝\n🔝 Tanzen\, Chillen\, Freunde treffen\, einfach eine tolle Zeit haben 💃🕺\n🔝 Gekühlte Getränke zu günstigen Preisen an unserer Bar genießen 🍻🍹 \nWir freuen uns sehr auf Euch 🥰 \n♥️ Eure SERVUS Mädels ♥️
URL:https://tanzen-im-servus.de/event/boogie-party-6/
LOCATION:Servus Truchtlaching\, Chiemseestr. 3\, Truchtlaching\, Bayern\, 83376\, Deutschland
CATEGORIES:Parties
ATTACH;FMTTYPE=image/png:https://tanzen-im-servus.de/wp-content/uploads/2025/11/Bildschirmfoto-2025-11-08-um-18.40.35.png
END:VEVENT
BEGIN:VEVENT
DTSTART;TZID=UTC:20261203T190000
DTEND;TZID=UTC:20261203T233000
DTSTAMP:20260424T185738
CREATED:20251108T175944Z
LAST-MODIFIED:20260303T071023Z
UID:3735-1796324400-1796340600@tanzen-im-servus.de
SUMMARY:Discofox Party
DESCRIPTION:Wie jeden 1. DONNERSTAG IM MONAT tanzen wir Discofox im Servus \n\nDJ Martina sorgt für beste und abwechslungsreiche Musik\n\n\nTanzstudio Servus\, Chiemseestraße 3\, 83376 Truchtlaching\n\n\n🔝 beste Musik in familiärem Ambiente ❤️\n🔝 toller *NEUER* Tanzboden\n(Bitte nur mit sauberen Schuhen/Tanzschuhen betreten-DANKE 🙏)\n🔝 Qualität steht bei uns immer an erster Stelle! 🔝🔝🔝\n🔝 Tanzen\, Chillen\, Freunde treffen\, einfach eine tolle Zeit haben 💃🕺\n🔝 Gekühlte Getränke zu günstigen Preisen an unserer Bar genießen 🍻🍹 \nWir freuen uns sehr auf Euch 🥰 \n♥️ Eure SERVUS Mädels ♥️
URL:https://tanzen-im-servus.de/event/discofox-party-13/
LOCATION:Servus Truchtlaching\, Chiemseestr. 3\, Truchtlaching\, Bayern\, 83376\, Deutschland
CATEGORIES:Parties
ATTACH;FMTTYPE=image/png:https://tanzen-im-servus.de/wp-content/uploads/2025/11/Bildschirmfoto-2025-11-08-um-18.41.06.png
END:VEVENT
BEGIN:VEVENT
DTSTART;TZID=UTC:20261210T190000
DTEND;TZID=UTC:20261210T233000
DTSTAMP:20260424T185738
CREATED:20251108T182159Z
LAST-MODIFIED:20260303T071011Z
UID:3772-1796929200-1796945400@tanzen-im-servus.de
SUMMARY:Boogie Party
DESCRIPTION:Boogie Woogie Party am 2. Donnerstag im Monat im Servus in Truchtlaching\nEin Abend mit bester und abwechslungsreicher Boogie-Musik.\n\n🔝 beste Musik in familiärem Ambiente ❤️\n🔝 toller *NEUER* Tanzboden\n(Bitte nur mit sauberen Schuhen/Tanzschuhen betreten-DANKE 🙏)\n🔝 Qualität steht bei uns immer an erster Stelle! 🔝🔝🔝\n🔝 Tanzen\, Chillen\, Freunde treffen\, einfach eine tolle Zeit haben 💃🕺\n🔝 Gekühlte Getränke zu günstigen Preisen an unserer Bar genießen 🍻🍹 \nWir freuen uns sehr auf Euch 🥰 \n♥️ Eure SERVUS Mädels ♥️ \n 
URL:https://tanzen-im-servus.de/event/boogie-party-7/
LOCATION:Servus Truchtlaching\, Chiemseestr. 3\, Truchtlaching\, Bayern\, 83376\, Deutschland
CATEGORIES:Parties
ATTACH;FMTTYPE=image/png:https://tanzen-im-servus.de/wp-content/uploads/2025/11/Bildschirmfoto-2025-11-08-um-18.40.35.png
END:VEVENT
BEGIN:VEVENT
DTSTART;TZID=UTC:20261231T193000
DTEND;TZID=UTC:20270101T010000
DTSTAMP:20260424T185738
CREATED:20251108T182421Z
LAST-MODIFIED:20260303T070952Z
UID:3775-1798745400-1798765200@tanzen-im-servus.de
SUMMARY:Silvester Party im SERVUS
DESCRIPTION:Was machst DU an Silvester?\n\nWürdest Du gern stilvoll und familiär mit uns in einem schönen Ambiente mit Freunden feiern?\nWir feiern wieder zusammen im Servus ins neue Jahr und würden uns freuen\, wenn DU auch mit dabei bist\n\n-> Wir bitten wie letztes Jahr um Voranmeldung\n– Jeder der mitessen möchte\, bringt einfach etwas für unser Buffet mit. Teil uns bitte zur besseren Planung vorab mit was Du leckeres mitbringst- Danke\n\nSalsa Bachata Kizomba Party im ausgeglichenen Mix mit DJane AngelKizz\, wie ihr es vom Servus gewohnt seid.\nUm Mitternacht gibt es 1 Glas Prosecco/Sekt\n\nDarf gerne geteilt werden \n\n🔝 beste Musik in familiärem Ambiente ❤️\n🔝 toller *NEUER* Tanzboden\n(Bitte nur mit sauberen Schuhen/Tanzschuhen betreten-DANKE 🙏)\n🔝 Qualität steht bei uns immer an erster Stelle! 🔝🔝🔝\n🔝 Tanzen\, Chillen\, Freunde treffen\, einfach eine tolle Zeit haben 💃🕺\n🔝 Gekühlte Getränke zu günstigen Preisen an unserer Bar genießen 🍻🍹 \nWir freuen uns sehr auf Euch 🥰 \n♥️ Eure SERVUS Mädels ♥️
URL:https://tanzen-im-servus.de/event/silvester-party-im-servus/
LOCATION:Servus Truchtlaching\, Chiemseestr. 3\, Truchtlaching\, Bayern\, 83376\, Deutschland
CATEGORIES:Parties
ATTACH;FMTTYPE=image/jpeg:https://tanzen-im-servus.de/wp-content/uploads/2025/11/Copy-of-Copy-of-Silvester-Party-New-Year-Celebration-Event-Ad-2-Erstellt-mit-PosterMyWall-2.jpg
END:VEVENT
END:VCALENDAR