BEGIN:VCALENDAR
VERSION:2.0
PRODID:-//Tanzen im Servus - ECPv6.0.12//NONSGML v1.0//EN
CALSCALE:GREGORIAN
METHOD:PUBLISH
X-ORIGINAL-URL:https://tanzen-im-servus.de
X-WR-CALDESC:Veranstaltungen für Tanzen im Servus
REFRESH-INTERVAL;VALUE=DURATION:PT1H
X-Robots-Tag:noindex
X-PUBLISHED-TTL:PT1H
BEGIN:VTIMEZONE
TZID:UTC
BEGIN:STANDARD
TZOFFSETFROM:+0000
TZOFFSETTO:+0000
TZNAME:UTC
DTSTART:20260101T000000
END:STANDARD
END:VTIMEZONE
BEGIN:VEVENT
DTSTART;TZID=UTC:20260618T190000
DTEND;TZID=UTC:20260619T000000
DTSTAMP:20260424T173113
CREATED:20260109T121131Z
LAST-MODIFIED:20260109T121131Z
UID:3951-1781809200-1781827200@tanzen-im-servus.de
SUMMARY:Discofox Party in der Mia in Trostberg
DESCRIPTION:Let’s Dance!\n\n*MIA Trostberg meets Servus Truchtlaching* \nTanzleidenschaft und mitreißende Discofox-Beats.\nDJ Martina wird Euch ab 19 Uhr mit ansteckendem und abwechslungsreichem Discofox-Mix auf die Tanzfläche locken und den ganzen Abend für beste Stimmung sorgen.Nach Herzenslust tanzen\, erfrischende Cocktails genießen -selbstverständlich auch alkoholfrei- und einen perfekten Abend unter Freunden erleben.\n\nWir freuen uns auf Euch
URL:https://tanzen-im-servus.de/event/discofox-party-in-der-mia-in-trostberg-5/
LOCATION:Mia Trostberg\, Trostberg
CATEGORIES:Parties
ATTACH;FMTTYPE=image/jpeg:https://tanzen-im-servus.de/wp-content/uploads/2026/01/608909960_1203916618505045_1578148952264281417_n.jpg
END:VEVENT
BEGIN:VEVENT
DTSTART;TZID=UTC:20260702T190000
DTEND;TZID=UTC:20260702T233000
DTSTAMP:20260424T173113
CREATED:20251108T180237Z
LAST-MODIFIED:20251108T180543Z
UID:3728-1783018800-1783035000@tanzen-im-servus.de
SUMMARY:Discofox Party - bei schönem Wetter OUTDOOR\, sonst im SERVUS
DESCRIPTION:DJ Martina sorgt für beste und abwechslungsreiche Musik\n\nbei schönem Wetter OUTDOOR: Rupertsdorf 23\, 83352 Altenmarkt\n\nbei schlechtem Wetter INDOOR: Tanzstudio Servus\, Chiemseestraße 3\, 83376 Truchtlaching\nWo wir tanzen\, wird hier\, und auch auf Facebook + WhatsApp-Verteiler kurzfristig bekannt gegeben.\n\n\n\n\n\n\n Ganz wichtig –  Fahrt bitte langsam zu uns rüber und auch nachts wieder zurück\, Rücksicht auf die Nachbarn nehmen – 20 km/h – Wir danken Euch\n– Gekühlte Getränke haben wir und diese sind über uns zu beziehen – bitte keine Getränke selbst mitbringen! DANKE \n Parken dürft ihr auf der großen Wiese (nicht im Innenhof parken\, Garagen müssen frei bleiben) – Bitte die Zufahrten von der Straße offen lassen und nicht zuparken sonst kann man weder rein noch rausfahren \nEs gibt viele kostenlose Parkmöglichkeiten auf unserer Wiese\n\nKontakt: 0162 927 0238\n\n\nWir freuen uns sehr auf Euch 🥰 \n♥️ Eure SERVUS Mädels ♥️
URL:https://tanzen-im-servus.de/event/discofox-party-bei-schoenem-wetter-outdoor-sonst-im-servus/
LOCATION:Rupertsdorf 23\, 83352 Altenmarkt\, Rupertsdorf 23\, Altenmarkt\, 83352\, Deutschland
CATEGORIES:Parties
ATTACH;FMTTYPE=image/png:https://tanzen-im-servus.de/wp-content/uploads/2025/11/Bildschirmfoto-2025-11-08-um-18.54.55.png
END:VEVENT
BEGIN:VEVENT
DTSTART;TZID=UTC:20260709T190000
DTEND;TZID=UTC:20260709T233000
DTSTAMP:20260424T173113
CREATED:20251108T181738Z
LAST-MODIFIED:20251108T181738Z
UID:3762-1783623600-1783639800@tanzen-im-servus.de
SUMMARY:Boogie Party - bei schönem Wetter OUTDOOR
DESCRIPTION:Boogie Woogie Party am 2. Donnerstag im Monat im Servus in Truchtlaching\nEin Abend mit bester und abwechslungsreicher Boogie-Musik.\n\n\nbei schönem Wetter tanzen wir ab 14:00 Uhr Outdoor in Rupertsdorf 23\, 83352 Altenmarkt\n-> bei schlechtem Wetter ab 19:00 Uhr im SERVUS Truchtlaching\n\n\n\n\nWo wir tanzen\, wird hier\, und auch auf Facebook + WhatsApp-Verteiler kurzfristig bekannt gegeben.\n\n\n\n\n\n\n Ganz wichtig –  Fahrt bitte langsam zu uns rüber und auch nachts wieder zurück\, Rücksicht auf die Nachbarn nehmen – 20 km/h – Wir danken Euch\n– Gekühlte Getränke haben wir und diese sind über uns zu beziehen – bitte keine Getränke selbst mitbringen! DANKE \n Parken dürft ihr auf der großen Wiese (nicht im Innenhof parken\, Garagen müssen frei bleiben) – Bitte die Zufahrten von der Straße offen lassen und nicht zuparken sonst kann man weder rein noch rausfahren \nEs gibt viele kostenlose Parkmöglichkeiten auf unserer Wiese\n\n\n\n\n\n\nOrt: Rupertsdorf 23\, 83352 AltenmarktEs gibt viele Parkmöglichkeiten auf unserer Wiese\n\nKontakt: 0162 927 0238\n\n\nWir freuen uns sehr auf Euch 🥰 \n♥️ Eure SERVUS Mädels ♥️
URL:https://tanzen-im-servus.de/event/boogie-party-bei-schoenem-wetter-outdoor-2/
LOCATION:Rupertsdorf 23\, 83352 Altenmarkt\, Rupertsdorf 23\, Altenmarkt\, 83352\, Deutschland
CATEGORIES:Parties
ATTACH;FMTTYPE=image/png:https://tanzen-im-servus.de/wp-content/uploads/2025/11/Bildschirmfoto-2025-11-08-um-19.15.44.png
END:VEVENT
BEGIN:VEVENT
DTSTART;TZID=UTC:20260710T180000
DTEND;TZID=UTC:20260711T010000
DTSTAMP:20260424T173113
CREATED:20251215T224428Z
LAST-MODIFIED:20260420T081620Z
UID:3855-1783706400-1783731600@tanzen-im-servus.de
SUMMARY:OUTDOOR - Salsa Bachata Kizomba Party - wir grillen !
DESCRIPTION:OUTDOOR – Salsa Bachata Kizomba Party im ausgeglichenen Mix \nDJane AngelKizz legt für Euch auf 😍 \n🌞Partystart schon ab 18:00 Uhr OUTDOOR 🙂 bei uns im Garten Rupertsdorf 23\, 83352 Altenmarkt \n– Tanzen\, Grillen\, Chillen\, Freunde treffen\, einfach eine tolle Zeit haben \nWer mitgrillen möchte\, bringt sein Essen+Teller+Besteck 🥩🥗🥖🍽️ mit und wir Essen bei toller Musik gemeinsam im Garten (Bitte Müll wieder mit nach Hause nehmen – Lieben Dank) 😎 \n🧐 Ganz wichtig 🧐\n– 🚗 Fahrt bitte langsam zu uns rüber und auch nachts wieder zurück\, Rücksicht auf die Nachbarn nehmen – 20 km – Wir danken Euch \nGekühlte Getränke haben wir und diese sind über uns zu beziehen – bitte keine Getränke selbst mitbringen! DANKE 🥤🥂🍷🍺 \n🚙 Parken dürft ihr auf der großen Wiese (nicht im Innenhof parken\, Garagen müssen frei bleiben) – Bitte die Zufahrten von der Straße offen lassen und nicht zuparken sonst kann man weder rein noch rausfahren 😉 \nWir freuen uns sehr auf Euch 🥰 \n♥️ Eure SERVUS Mädels ♥️
URL:https://tanzen-im-servus.de/event/outdoor-salsa-bachata-kizomba-party-wir-grillen/
LOCATION:Rupertsdorf 23\, 83352 Altenmarkt\, Rupertsdorf 23\, Altenmarkt\, 83352\, Deutschland
CATEGORIES:Parties
ATTACH;FMTTYPE=image/png:https://tanzen-im-servus.de/wp-content/uploads/2025/12/Bildschirmfoto-2026-04-20-um-10.15.02.png
END:VEVENT
BEGIN:VEVENT
DTSTART;TZID=UTC:20260806T190000
DTEND;TZID=UTC:20260806T233000
DTSTAMP:20260424T173113
CREATED:20251108T180340Z
LAST-MODIFIED:20251108T180340Z
UID:3740-1786042800-1786059000@tanzen-im-servus.de
SUMMARY:Discofox Party - bei schönem Wetter OUTDOOR im Garten\, sonst im SERVUS
DESCRIPTION:DJ Martina sorgt für beste und abwechslungsreiche Musik\n\nbei schönem Wetter OUTDOOR: Rupertsdorf 23\, 83352 Altenmarkt\n\nbei schlechtem Wetter INDOOR: Tanzstudio Servus\, Chiemseestraße 3\, 83376 Truchtlaching\nWo wir tanzen\, wird hier\, und auch auf Facebook + WhatsApp-Verteiler kurzfristig bekannt gegeben.\n\n\n\n\n\n\n Ganz wichtig –  Fahrt bitte langsam zu uns rüber und auch nachts wieder zurück\, Rücksicht auf die Nachbarn nehmen – 20 km/h – Wir danken Euch\n– Gekühlte Getränke haben wir und diese sind über uns zu beziehen – bitte keine Getränke selbst mitbringen! DANKE \n Parken dürft ihr auf der großen Wiese (nicht im Innenhof parken\, Garagen müssen frei bleiben) – Bitte die Zufahrten von der Straße offen lassen und nicht zuparken sonst kann man weder rein noch rausfahren \nEs gibt viele kostenlose Parkmöglichkeiten auf unserer Wiese\n\nKontakt: 0162 927 0238\n\n\nWir freuen uns sehr auf Euch 🥰 \n♥️ Eure SERVUS Mädels ♥️
URL:https://tanzen-im-servus.de/event/discofox-party-bei-schoenem-wetter-outdoor-im-garten-sonst-im-servus/
LOCATION:Rupertsdorf 23\, 83352 Altenmarkt\, Rupertsdorf 23\, Altenmarkt\, 83352\, Deutschland
CATEGORIES:Parties
ATTACH;FMTTYPE=image/png:https://tanzen-im-servus.de/wp-content/uploads/2025/11/Bildschirmfoto-2025-11-08-um-18.54.55.png
END:VEVENT
BEGIN:VEVENT
DTSTART;TZID=UTC:20260808T180000
DTEND;TZID=UTC:20260809T010000
DTSTAMP:20260424T173113
CREATED:20251108T191156Z
LAST-MODIFIED:20251229T210457Z
UID:3806-1786212000-1786237200@tanzen-im-servus.de
SUMMARY:Salsa Bachata Kizomba - OUTDOOR - Party - wir grillen !
DESCRIPTION:OUTDOOR – Salsa Bachata Kizomba Party im ausgeglichenen Mix \nDJane AngelKizz legt für Euch auf 😍 \n🌞Partystart schon ab 18:00 Uhr OUTDOOR 🙂 bei uns im Garten Rupertsdorf 23\, 83352 Altenmarkt \n– Tanzen\, Grillen\, Chillen\, Freunde treffen\, einfach eine tolle Zeit haben \nWer mitgrillen möchte\, bringt sein Essen+Teller+Besteck 🥩🥗🥖🍽️ mit und wir Essen bei toller Musik gemeinsam im Garten (Bitte Müll wieder mit nach Hause nehmen – Lieben Dank) 😎 \n🧐 Ganz wichtig 🧐\n– 🚗 Fahrt bitte langsam zu uns rüber und auch nachts wieder zurück\, Rücksicht auf die Nachbarn nehmen – 20 km – Wir danken Euch \nGekühlte Getränke haben wir und diese sind über uns zu beziehen – bitte keine Getränke selbst mitbringen! DANKE 🥤🥂🍷🍺 \n🚙 Parken dürft ihr auf der großen Wiese (nicht im Innenhof parken\, Garagen müssen frei bleiben) – Bitte die Zufahrten von der Straße offen lassen und nicht zuparken sonst kann man weder rein noch rausfahren 😉 \nWir freuen uns sehr auf Euch 🥰 \n♥️ Eure SERVUS Mädels ♥️
URL:https://tanzen-im-servus.de/event/salsa-bachata-kizomba-outdoor-party-wir-grillen/
LOCATION:Rupertsdorf 23\, 83352 Altenmarkt\, Rupertsdorf 23\, Altenmarkt\, 83352\, Deutschland
CATEGORIES:Parties
ATTACH;FMTTYPE=image/png:https://tanzen-im-servus.de/wp-content/uploads/2025/11/Bildschirmfoto-2025-12-29-um-22.03.57.png
END:VEVENT
BEGIN:VEVENT
DTSTART;TZID=UTC:20260813T190000
DTEND;TZID=UTC:20260813T233000
DTSTAMP:20260424T173113
CREATED:20251108T181828Z
LAST-MODIFIED:20251108T181828Z
UID:3764-1786647600-1786663800@tanzen-im-servus.de
SUMMARY:Boogie Party - bei schönem Wetter OUTDOOR
DESCRIPTION:Boogie Woogie Party am 2. Donnerstag im Monat im Servus in Truchtlaching\nEin Abend mit bester und abwechslungsreicher Boogie-Musik.\n\n\nbei schönem Wetter tanzen wir ab 14:00 Uhr Outdoor in Rupertsdorf 23\, 83352 Altenmarkt\n-> bei schlechtem Wetter ab 19:00 Uhr im SERVUS Truchtlaching\n\n\n\n\nWo wir tanzen\, wird hier\, und auch auf Facebook + WhatsApp-Verteiler kurzfristig bekannt gegeben.\n\n\n\n\n\n\n Ganz wichtig –  Fahrt bitte langsam zu uns rüber und auch nachts wieder zurück\, Rücksicht auf die Nachbarn nehmen – 20 km/h – Wir danken Euch\n– Gekühlte Getränke haben wir und diese sind über uns zu beziehen – bitte keine Getränke selbst mitbringen! DANKE \n Parken dürft ihr auf der großen Wiese (nicht im Innenhof parken\, Garagen müssen frei bleiben) – Bitte die Zufahrten von der Straße offen lassen und nicht zuparken sonst kann man weder rein noch rausfahren \nEs gibt viele kostenlose Parkmöglichkeiten auf unserer Wiese\n\n\n\n\n\n\nOrt: Rupertsdorf 23\, 83352 AltenmarktEs gibt viele Parkmöglichkeiten auf unserer Wiese\n\nKontakt: 0162 927 0238\n\n\nWir freuen uns sehr auf Euch 🥰 \n♥️ Eure SERVUS Mädels ♥️
URL:https://tanzen-im-servus.de/event/boogie-party-bei-schoenem-wetter-outdoor-3/
LOCATION:Rupertsdorf 23\, 83352 Altenmarkt\, Rupertsdorf 23\, Altenmarkt\, 83352\, Deutschland
CATEGORIES:Parties
ATTACH;FMTTYPE=image/png:https://tanzen-im-servus.de/wp-content/uploads/2025/11/Bildschirmfoto-2025-11-08-um-19.15.44.png
END:VEVENT
BEGIN:VEVENT
DTSTART;TZID=UTC:20260903T190000
DTEND;TZID=UTC:20260903T233000
DTSTAMP:20260424T173113
CREATED:20251108T180427Z
LAST-MODIFIED:20251108T180427Z
UID:3742-1788462000-1788478200@tanzen-im-servus.de
SUMMARY:Discofox Party - bei schönem Wetter OUTDOOR in unserem Garten
DESCRIPTION:DJ Martina sorgt für beste und abwechslungsreiche Musik\n\nbei schönem Wetter OUTDOOR: Rupertsdorf 23\, 83352 Altenmarkt\n\nbei schlechtem Wetter INDOOR: Tanzstudio Servus\, Chiemseestraße 3\, 83376 Truchtlaching\nWo wir tanzen\, wird hier\, und auch auf Facebook + WhatsApp-Verteiler kurzfristig bekannt gegeben.\n\n\n\n\n\n\n Ganz wichtig –  Fahrt bitte langsam zu uns rüber und auch nachts wieder zurück\, Rücksicht auf die Nachbarn nehmen – 20 km/h – Wir danken Euch\n– Gekühlte Getränke haben wir und diese sind über uns zu beziehen – bitte keine Getränke selbst mitbringen! DANKE \n Parken dürft ihr auf der großen Wiese (nicht im Innenhof parken\, Garagen müssen frei bleiben) – Bitte die Zufahrten von der Straße offen lassen und nicht zuparken sonst kann man weder rein noch rausfahren \nEs gibt viele kostenlose Parkmöglichkeiten auf unserer Wiese\n\nKontakt: 0162 927 0238\n\n\nWir freuen uns sehr auf Euch 🥰 \n♥️ Eure SERVUS Mädels ♥️
URL:https://tanzen-im-servus.de/event/discofox-party-bei-schoenem-wetter-outdoor-in-unserem-garten/
LOCATION:Rupertsdorf 23\, 83352 Altenmarkt\, Rupertsdorf 23\, Altenmarkt\, 83352\, Deutschland
CATEGORIES:Parties
ATTACH;FMTTYPE=image/png:https://tanzen-im-servus.de/wp-content/uploads/2025/11/Bildschirmfoto-2025-11-08-um-18.54.55.png
END:VEVENT
BEGIN:VEVENT
DTSTART;TZID=UTC:20260910T190000
DTEND;TZID=UTC:20260910T233000
DTSTAMP:20260424T173113
CREATED:20251108T181910Z
LAST-MODIFIED:20251108T181910Z
UID:3766-1789066800-1789083000@tanzen-im-servus.de
SUMMARY:Boogie Party - bei schönem Wetter OUTDOOR
DESCRIPTION:Boogie Woogie Party am 2. Donnerstag im Monat im Servus in Truchtlaching\nEin Abend mit bester und abwechslungsreicher Boogie-Musik.\n\n\nbei schönem Wetter tanzen wir ab 14:00 Uhr Outdoor in Rupertsdorf 23\, 83352 Altenmarkt\n-> bei schlechtem Wetter ab 19:00 Uhr im SERVUS Truchtlaching\n\n\n\n\nWo wir tanzen\, wird hier\, und auch auf Facebook + WhatsApp-Verteiler kurzfristig bekannt gegeben.\n\n\n\n\n\n\n Ganz wichtig –  Fahrt bitte langsam zu uns rüber und auch nachts wieder zurück\, Rücksicht auf die Nachbarn nehmen – 20 km/h – Wir danken Euch\n– Gekühlte Getränke haben wir und diese sind über uns zu beziehen – bitte keine Getränke selbst mitbringen! DANKE \n Parken dürft ihr auf der großen Wiese (nicht im Innenhof parken\, Garagen müssen frei bleiben) – Bitte die Zufahrten von der Straße offen lassen und nicht zuparken sonst kann man weder rein noch rausfahren \nEs gibt viele kostenlose Parkmöglichkeiten auf unserer Wiese\n\n\n\n\n\n\nOrt: Rupertsdorf 23\, 83352 AltenmarktEs gibt viele Parkmöglichkeiten auf unserer Wiese\n\nKontakt: 0162 927 0238\n\n\nWir freuen uns sehr auf Euch 🥰 \n♥️ Eure SERVUS Mädels ♥️
URL:https://tanzen-im-servus.de/event/boogie-party-bei-schoenem-wetter-outdoor-4/
LOCATION:Rupertsdorf 23\, 83352 Altenmarkt\, Rupertsdorf 23\, Altenmarkt\, 83352\, Deutschland
CATEGORIES:Parties
ATTACH;FMTTYPE=image/png:https://tanzen-im-servus.de/wp-content/uploads/2025/11/Bildschirmfoto-2025-11-08-um-19.15.44.png
END:VEVENT
BEGIN:VEVENT
DTSTART;TZID=UTC:20260912T180000
DTEND;TZID=UTC:20260913T010000
DTSTAMP:20260424T173113
CREATED:20251215T224026Z
LAST-MODIFIED:20251229T210546Z
UID:3847-1789236000-1789261200@tanzen-im-servus.de
SUMMARY:OUTDOOR - Salsa Bachata Kizomba Party - wir grillen !
DESCRIPTION:OUTDOOR – Salsa Bachata Kizomba Party im ausgeglichenen Mix \nDJane AngelKizz legt für Euch auf 😍 \n🌞Partystart schon ab 18:00 Uhr OUTDOOR 🙂 bei uns im Garten Rupertsdorf 23\, 83352 Altenmarkt \n– Tanzen\, Grillen\, Chillen\, Freunde treffen\, einfach eine tolle Zeit haben \nWer mitgrillen möchte\, bringt sein Essen+Teller+Besteck 🥩🥗🥖🍽️ mit und wir Essen bei toller Musik gemeinsam im Garten (Bitte Müll wieder mit nach Hause nehmen – Lieben Dank) 😎 \n🧐 Ganz wichtig 🧐\n– 🚗 Fahrt bitte langsam zu uns rüber und auch nachts wieder zurück\, Rücksicht auf die Nachbarn nehmen – 20 km – Wir danken Euch \nGekühlte Getränke haben wir und diese sind über uns zu beziehen – bitte keine Getränke selbst mitbringen! DANKE 🥤🥂🍷🍺 \n🚙 Parken dürft ihr auf der großen Wiese (nicht im Innenhof parken\, Garagen müssen frei bleiben) – Bitte die Zufahrten von der Straße offen lassen und nicht zuparken sonst kann man weder rein noch rausfahren 😉 \nWir freuen uns sehr auf Euch 🥰 \n♥️ Eure SERVUS Mädels ♥️
URL:https://tanzen-im-servus.de/event/outdoor-salsa-bachata-kizomba-party/
LOCATION:Rupertsdorf 23\, 83352 Altenmarkt\, Rupertsdorf 23\, Altenmarkt\, 83352\, Deutschland
CATEGORIES:Parties
ATTACH;FMTTYPE=image/png:https://tanzen-im-servus.de/wp-content/uploads/2025/12/Bildschirmfoto-2025-12-29-um-22.05.17.png
END:VEVENT
BEGIN:VEVENT
DTSTART;TZID=UTC:20261001T190000
DTEND;TZID=UTC:20261001T233000
DTSTAMP:20260424T173113
CREATED:20251108T175711Z
LAST-MODIFIED:20260303T071154Z
UID:3731-1790881200-1790897400@tanzen-im-servus.de
SUMMARY:Discofox Party
DESCRIPTION:Wie jeden 1. DONNERSTAG IM MONAT tanzen wir Discofox im Servus \n\nDJ Martina sorgt für beste und abwechslungsreiche Musik\n\n\nTanzstudio Servus\, Chiemseestraße 3\, 83376 Truchtlaching\n\n\n🔝 beste Musik in familiärem Ambiente ❤️\n🔝 toller *NEUER* Tanzboden\n(Bitte nur mit sauberen Schuhen/Tanzschuhen betreten-DANKE 🙏)\n🔝 Qualität steht bei uns immer an erster Stelle! 🔝🔝🔝\n🔝 Tanzen\, Chillen\, Freunde treffen\, einfach eine tolle Zeit haben 💃🕺\n🔝 Gekühlte Getränke zu günstigen Preisen an unserer Bar genießen 🍻🍹 \nWir freuen uns sehr auf Euch 🥰 \n♥️ Eure SERVUS Mädels ♥️
URL:https://tanzen-im-servus.de/event/discofox-party-11/
LOCATION:Servus Truchtlaching\, Chiemseestr. 3\, Truchtlaching\, Bayern\, 83376\, Deutschland
CATEGORIES:Parties
ATTACH;FMTTYPE=image/png:https://tanzen-im-servus.de/wp-content/uploads/2025/11/Bildschirmfoto-2025-11-08-um-18.41.06.png
END:VEVENT
BEGIN:VEVENT
DTSTART;TZID=UTC:20261008T190000
DTEND;TZID=UTC:20261008T233000
DTSTAMP:20260424T173113
CREATED:20251108T182037Z
LAST-MODIFIED:20260303T071135Z
UID:3768-1791486000-1791502200@tanzen-im-servus.de
SUMMARY:Boogie Party
DESCRIPTION:Boogie Woogie Party am 2. Donnerstag im Monat im Servus in Truchtlaching\nEin Abend mit bester und abwechslungsreicher Boogie-Musik.\n\n🔝 beste Musik in familiärem Ambiente ❤️\n🔝 toller *NEUER* Tanzboden\n(Bitte nur mit sauberen Schuhen/Tanzschuhen betreten-DANKE 🙏)\n🔝 Qualität steht bei uns immer an erster Stelle! 🔝🔝🔝\n🔝 Tanzen\, Chillen\, Freunde treffen\, einfach eine tolle Zeit haben 💃🕺\n🔝 Gekühlte Getränke zu günstigen Preisen an unserer Bar genießen 🍻🍹 \nWir freuen uns sehr auf Euch 🥰 \n♥️ Eure SERVUS Mädels ♥️
URL:https://tanzen-im-servus.de/event/boogie-party-5/
LOCATION:Servus Truchtlaching\, Chiemseestr. 3\, Truchtlaching\, Bayern\, 83376\, Deutschland
CATEGORIES:Parties
ATTACH;FMTTYPE=image/png:https://tanzen-im-servus.de/wp-content/uploads/2025/11/Bildschirmfoto-2025-11-08-um-18.40.35.png
END:VEVENT
BEGIN:VEVENT
DTSTART;TZID=UTC:20261031T193000
DTEND;TZID=UTC:20261101T010000
DTSTAMP:20260424T173113
CREATED:20251108T182612Z
LAST-MODIFIED:20260303T071118Z
UID:3779-1793475000-1793494800@tanzen-im-servus.de
SUMMARY:die legendäre SERVUS Halloween Party
DESCRIPTION:Salsa-Bachata-Kizomba mit DJane AngelKizz – Halloween-Kult-Party   im Servus\n\nVerkleidet oder nicht – ganz egal kommen wie man möchte und Spaß haben\n\nBeginn: 19:30 Uhr\ngünstige GetränkepreiseSchauriges FingerfoodHalloween-Sweetsgruselige Deko – DU wirst das Servus wie jedes Jahr nicht mehr wieder erkennen \n\n🔝 beste Musik in familiärem Ambiente ❤️\n🔝 toller *NEUER* Tanzboden\n(Bitte nur mit sauberen Schuhen/Tanzschuhen betreten-DANKE 🙏)\n🔝 Qualität steht bei uns immer an erster Stelle! 🔝🔝🔝\n🔝 Tanzen\, Chillen\, Freunde treffen\, einfach eine tolle Zeit haben 💃🕺\n🔝 Gekühlte Getränke zu günstigen Preisen an unserer Bar genießen 🍻🍹 \nWir freuen uns sehr auf Euch 🥰 \n♥️ Eure SERVUS Mädels ♥️
URL:https://tanzen-im-servus.de/event/die-legendaere-servus-halloween-party/
LOCATION:Servus Truchtlaching\, Chiemseestr. 3\, Truchtlaching\, Bayern\, 83376\, Deutschland
CATEGORIES:Parties
ATTACH;FMTTYPE=image/png:https://tanzen-im-servus.de/wp-content/uploads/2024/12/Bildschirm­foto-2024-12-01-um-18.42.58.png
END:VEVENT
BEGIN:VEVENT
DTSTART;TZID=UTC:20261105T190000
DTEND;TZID=UTC:20261105T233000
DTSTAMP:20260424T173113
CREATED:20251108T175751Z
LAST-MODIFIED:20260303T071102Z
UID:3733-1793905200-1793921400@tanzen-im-servus.de
SUMMARY:Discofox Party
DESCRIPTION:Wie jeden 1. DONNERSTAG IM MONAT tanzen wir Discofox im Servus \n\nDJ Martina sorgt für beste und abwechslungsreiche Musik\n\n\nTanzstudio Servus\, Chiemseestraße 3\, 83376 Truchtlaching\n\n\n🔝 beste Musik in familiärem Ambiente ❤️\n🔝 toller *NEUER* Tanzboden\n(Bitte nur mit sauberen Schuhen/Tanzschuhen betreten-DANKE 🙏)\n🔝 Qualität steht bei uns immer an erster Stelle! 🔝🔝🔝\n🔝 Tanzen\, Chillen\, Freunde treffen\, einfach eine tolle Zeit haben 💃🕺\n🔝 Gekühlte Getränke zu günstigen Preisen an unserer Bar genießen 🍻🍹 \nWir freuen uns sehr auf Euch 🥰 \n♥️ Eure SERVUS Mädels ♥️
URL:https://tanzen-im-servus.de/event/discofox-party-12/
LOCATION:Servus Truchtlaching\, Chiemseestr. 3\, Truchtlaching\, Bayern\, 83376\, Deutschland
CATEGORIES:Parties
ATTACH;FMTTYPE=image/png:https://tanzen-im-servus.de/wp-content/uploads/2025/11/Bildschirmfoto-2025-11-08-um-18.41.06.png
END:VEVENT
BEGIN:VEVENT
DTSTART;TZID=UTC:20261107T193000
DTEND;TZID=UTC:20261108T010000
DTSTAMP:20260424T173113
CREATED:20260106T142302Z
LAST-MODIFIED:20260303T070924Z
UID:3904-1794079800-1794099600@tanzen-im-servus.de
SUMMARY:Salsa Bachata Kizomba Party
DESCRIPTION:Salsa-Bachata-Kizomba – Party\nmit DJane AngelKizz \nDarf gerne geteilt werden ☺️ \n🔝 beste Musik in familiärem Ambiente ❤️\n🔝 toller *NEUER* Tanzboden\n(Bitte nur mit sauberen Schuhen/Tanzschuhen betreten-DANKE 🙏)\n🔝 Qualität steht bei uns immer an erster Stelle! 🔝🔝🔝\n🔝 Tanzen\, Chillen\, Freunde treffen\, einfach eine tolle Zeit haben 💃🕺\n🔝 Gekühlte Getränke zu günstigen Preisen an unserer Bar genießen 🍻🍹 \nWir freuen uns sehr auf Euch 🥰 \n♥️ Eure SERVUS Mädels ♥️
URL:https://tanzen-im-servus.de/event/salsa-bachata-kizomba-party-5/
LOCATION:Servus Truchtlaching\, Chiemseestr. 3\, Truchtlaching\, Bayern\, 83376\, Deutschland
CATEGORIES:Parties
ATTACH;FMTTYPE=image/png:https://tanzen-im-servus.de/wp-content/uploads/2026/01/Bildschirmfoto-2026-01-07-um-18.05.51.png
END:VEVENT
BEGIN:VEVENT
DTSTART;TZID=UTC:20261112T190000
DTEND;TZID=UTC:20261112T233000
DTSTAMP:20260424T173113
CREATED:20251108T182120Z
LAST-MODIFIED:20260303T071037Z
UID:3770-1794510000-1794526200@tanzen-im-servus.de
SUMMARY:Boogie Party
DESCRIPTION:Boogie Woogie Party am 2. Donnerstag im Monat im Servus in Truchtlaching\nEin Abend mit bester und abwechslungsreicher Boogie-Musik.\n\n🔝 beste Musik in familiärem Ambiente ❤️\n🔝 toller *NEUER* Tanzboden\n(Bitte nur mit sauberen Schuhen/Tanzschuhen betreten-DANKE 🙏)\n🔝 Qualität steht bei uns immer an erster Stelle! 🔝🔝🔝\n🔝 Tanzen\, Chillen\, Freunde treffen\, einfach eine tolle Zeit haben 💃🕺\n🔝 Gekühlte Getränke zu günstigen Preisen an unserer Bar genießen 🍻🍹 \nWir freuen uns sehr auf Euch 🥰 \n♥️ Eure SERVUS Mädels ♥️
URL:https://tanzen-im-servus.de/event/boogie-party-6/
LOCATION:Servus Truchtlaching\, Chiemseestr. 3\, Truchtlaching\, Bayern\, 83376\, Deutschland
CATEGORIES:Parties
ATTACH;FMTTYPE=image/png:https://tanzen-im-servus.de/wp-content/uploads/2025/11/Bildschirmfoto-2025-11-08-um-18.40.35.png
END:VEVENT
BEGIN:VEVENT
DTSTART;TZID=UTC:20261203T190000
DTEND;TZID=UTC:20261203T233000
DTSTAMP:20260424T173113
CREATED:20251108T175944Z
LAST-MODIFIED:20260303T071023Z
UID:3735-1796324400-1796340600@tanzen-im-servus.de
SUMMARY:Discofox Party
DESCRIPTION:Wie jeden 1. DONNERSTAG IM MONAT tanzen wir Discofox im Servus \n\nDJ Martina sorgt für beste und abwechslungsreiche Musik\n\n\nTanzstudio Servus\, Chiemseestraße 3\, 83376 Truchtlaching\n\n\n🔝 beste Musik in familiärem Ambiente ❤️\n🔝 toller *NEUER* Tanzboden\n(Bitte nur mit sauberen Schuhen/Tanzschuhen betreten-DANKE 🙏)\n🔝 Qualität steht bei uns immer an erster Stelle! 🔝🔝🔝\n🔝 Tanzen\, Chillen\, Freunde treffen\, einfach eine tolle Zeit haben 💃🕺\n🔝 Gekühlte Getränke zu günstigen Preisen an unserer Bar genießen 🍻🍹 \nWir freuen uns sehr auf Euch 🥰 \n♥️ Eure SERVUS Mädels ♥️
URL:https://tanzen-im-servus.de/event/discofox-party-13/
LOCATION:Servus Truchtlaching\, Chiemseestr. 3\, Truchtlaching\, Bayern\, 83376\, Deutschland
CATEGORIES:Parties
ATTACH;FMTTYPE=image/png:https://tanzen-im-servus.de/wp-content/uploads/2025/11/Bildschirmfoto-2025-11-08-um-18.41.06.png
END:VEVENT
BEGIN:VEVENT
DTSTART;TZID=UTC:20261210T190000
DTEND;TZID=UTC:20261210T233000
DTSTAMP:20260424T173113
CREATED:20251108T182159Z
LAST-MODIFIED:20260303T071011Z
UID:3772-1796929200-1796945400@tanzen-im-servus.de
SUMMARY:Boogie Party
DESCRIPTION:Boogie Woogie Party am 2. Donnerstag im Monat im Servus in Truchtlaching\nEin Abend mit bester und abwechslungsreicher Boogie-Musik.\n\n🔝 beste Musik in familiärem Ambiente ❤️\n🔝 toller *NEUER* Tanzboden\n(Bitte nur mit sauberen Schuhen/Tanzschuhen betreten-DANKE 🙏)\n🔝 Qualität steht bei uns immer an erster Stelle! 🔝🔝🔝\n🔝 Tanzen\, Chillen\, Freunde treffen\, einfach eine tolle Zeit haben 💃🕺\n🔝 Gekühlte Getränke zu günstigen Preisen an unserer Bar genießen 🍻🍹 \nWir freuen uns sehr auf Euch 🥰 \n♥️ Eure SERVUS Mädels ♥️ \n 
URL:https://tanzen-im-servus.de/event/boogie-party-7/
LOCATION:Servus Truchtlaching\, Chiemseestr. 3\, Truchtlaching\, Bayern\, 83376\, Deutschland
CATEGORIES:Parties
ATTACH;FMTTYPE=image/png:https://tanzen-im-servus.de/wp-content/uploads/2025/11/Bildschirmfoto-2025-11-08-um-18.40.35.png
END:VEVENT
BEGIN:VEVENT
DTSTART;TZID=UTC:20261231T193000
DTEND;TZID=UTC:20270101T010000
DTSTAMP:20260424T173113
CREATED:20251108T182421Z
LAST-MODIFIED:20260303T070952Z
UID:3775-1798745400-1798765200@tanzen-im-servus.de
SUMMARY:Silvester Party im SERVUS
DESCRIPTION:Was machst DU an Silvester?\n\nWürdest Du gern stilvoll und familiär mit uns in einem schönen Ambiente mit Freunden feiern?\nWir feiern wieder zusammen im Servus ins neue Jahr und würden uns freuen\, wenn DU auch mit dabei bist\n\n-> Wir bitten wie letztes Jahr um Voranmeldung\n– Jeder der mitessen möchte\, bringt einfach etwas für unser Buffet mit. Teil uns bitte zur besseren Planung vorab mit was Du leckeres mitbringst- Danke\n\nSalsa Bachata Kizomba Party im ausgeglichenen Mix mit DJane AngelKizz\, wie ihr es vom Servus gewohnt seid.\nUm Mitternacht gibt es 1 Glas Prosecco/Sekt\n\nDarf gerne geteilt werden \n\n🔝 beste Musik in familiärem Ambiente ❤️\n🔝 toller *NEUER* Tanzboden\n(Bitte nur mit sauberen Schuhen/Tanzschuhen betreten-DANKE 🙏)\n🔝 Qualität steht bei uns immer an erster Stelle! 🔝🔝🔝\n🔝 Tanzen\, Chillen\, Freunde treffen\, einfach eine tolle Zeit haben 💃🕺\n🔝 Gekühlte Getränke zu günstigen Preisen an unserer Bar genießen 🍻🍹 \nWir freuen uns sehr auf Euch 🥰 \n♥️ Eure SERVUS Mädels ♥️
URL:https://tanzen-im-servus.de/event/silvester-party-im-servus/
LOCATION:Servus Truchtlaching\, Chiemseestr. 3\, Truchtlaching\, Bayern\, 83376\, Deutschland
CATEGORIES:Parties
ATTACH;FMTTYPE=image/jpeg:https://tanzen-im-servus.de/wp-content/uploads/2025/11/Copy-of-Copy-of-Silvester-Party-New-Year-Celebration-Event-Ad-2-Erstellt-mit-PosterMyWall-2.jpg
END:VEVENT
END:VCALENDAR