BEGIN:VCALENDAR
VERSION:2.0
PRODID:-//Tanzen im Servus - ECPv6.0.12//NONSGML v1.0//EN
CALSCALE:GREGORIAN
METHOD:PUBLISH
X-ORIGINAL-URL:https://tanzen-im-servus.de
X-WR-CALDESC:Veranstaltungen für Tanzen im Servus
REFRESH-INTERVAL;VALUE=DURATION:PT1H
X-Robots-Tag:noindex
X-PUBLISHED-TTL:PT1H
BEGIN:VTIMEZONE
TZID:UTC
BEGIN:STANDARD
TZOFFSETFROM:+0000
TZOFFSETTO:+0000
TZNAME:UTC
DTSTART:20260101T000000
END:STANDARD
END:VTIMEZONE
BEGIN:VEVENT
DTSTART;TZID=UTC:20260501T143000
DTEND;TZID=UTC:20260501T193000
DTSTAMP:20260424T194702
CREATED:20260410T121252Z
LAST-MODIFIED:20260410T121252Z
UID:4100-1777645800-1777663800@tanzen-im-servus.de
SUMMARY:Nachmittags Discofox Party am Feiertag\, den 01.05.\, OUTDOOR
DESCRIPTION:-> am Feiertag\, den 01.05.\, tanzen wir ab 14:30 Uhr Nachmittag DISCOFOX bei schönem Wetter OUTDOOR ansonsten im SERVUS 💃🕺🏼<- \nBeginn: 14:30 Uhr – bis max. 19:30 Uhr mit DJane Martina \nACHTUNG: bei schlechtem Wetter tanzen wir im SERVUS in Truchtlaching ebenfalls ab 14:30 Uhr       -> (wird kurzfristig hier und auf Facebook bekannt gegeben!) \nWir wollen außerdem GRILLEN 🙂\nWer mitgrillen möchte\, bringt sein Essen+Teller+Besteck mit und wir Essen bei toller Musik gemeinsam im Garten\n(Bitte Müll wieder mit nach Hause nehmen – Lieben Dank) 😎 \n🧐 Ganz wichtig 🧐\n– 🚗 Fahrt bitte langsam zu uns rüber und auch nachts wieder zurück\, Rücksicht auf die Nachbarn nehmen – 20 km/h – Wir danken Euch \nGekühlte Getränke haben wir und diese sind über uns zu beziehen – bitte keine Getränke selbst mitbringen! DANKE 🥤🥂🍷🍺 \n🚙 Parken dürft ihr auf der großen Wiese (nicht im Innenhof parken\, die Garagen müssen frei bleiben) – Bitte die Zufahrten von der Straße offen lassen und nicht zuparken sonst kann man weder rein noch rausfahren 😉 \nOrt: Rupertsdorf 23\, 83352 Altenmarkt\nEs gibt viele kostenlose Parkmöglichkeiten auf unserer Wiese \nDu hast Fragen: 0162/8562055 \nWir freuen uns sehr auf Euch 🥰 \n♥️ Eure SERVUS Mädels ♥️
URL:https://tanzen-im-servus.de/event/nachmittags-discofox-party-am-feiertag-den-01-05-outdoor/
LOCATION:Rupertsdorf 23\, 83352 Altenmarkt\, Rupertsdorf 23\, Altenmarkt\, 83352\, Deutschland
CATEGORIES:Parties
ATTACH;FMTTYPE=image/png:https://tanzen-im-servus.de/wp-content/uploads/2026/04/Bildschirmfoto-2026-04-10-um-14.01.59.png
END:VEVENT
BEGIN:VEVENT
DTSTART;TZID=UTC:20260514T150000
DTEND;TZID=UTC:20260514T193000
DTSTAMP:20260424T194702
CREATED:20251108T181020Z
LAST-MODIFIED:20260417T080236Z
UID:3753-1778770800-1778787000@tanzen-im-servus.de
SUMMARY:Boogie Party - bei schönem Wetter am Nachmittag aufgrund des Feiertags im GARTEN
DESCRIPTION:Boogie Woogie Party am 2. Donnerstag im Monat im Servus in Truchtlaching\nEin Nachmittag mit bester und abwechslungsreicher Boogie-Musik. \n🌞bei schönem Wetter tanzen wir ab 15:00 Uhr Outdoor in Rupertsdorf 23\, 83352 Altenmarkt \nWIR GRILLEN!\ndenkt daran\, Grillgut\, Teller und Besteck selbst mitzubringen\n(Müll bitte auch wieder mit nach Hause nehmen – Wir danken Euch) \n🌧️bei schlechtem Wetter ab 15:00 Uhr im SERVUS Truchtlaching \nWo wir tanzen\, wird hier\, und auch auf Facebook + WhatsApp-Verteiler kurzfristig bekannt gegeben. \nGanz wichtig ⚠️\n🚙Fahrt bitte langsam zu uns rüber und auch nachts wieder zurück\, Rücksicht auf die Nachbarn nehmen – 20 km/h – Wir danken Euch\n🍹Gekühlte Getränke haben wir und diese sind über uns zu beziehen – bitte keine Getränke selbst mitbringen! DANKE\n🏎️ Parken dürft ihr auf der großen Wiese (nicht im Innenhof parken\, Garagen müssen frei bleiben) – Bitte die Zufahrten von der Straße offen lassen und nicht zuparken sonst kann man weder rein noch rausfahren\n– Es gibt viele kostenlose Parkmöglichkeiten auf unserer Wiese \nOrt: Rupertsdorf 23\, 83352 Altenmarkt\nEs gibt viele Parkmöglichkeiten auf unserer Wiese \nKontakt: 0162 927 0238\nWir freuen uns sehr auf Euch 🥰 \n♥️ Eure SERVUS Mädels ♥️
URL:https://tanzen-im-servus.de/event/boogie-party-bei-schoenem-wetter-am-nachmittag-aufgrund-des-feiertags-im-garten/
LOCATION:Rupertsdorf 23\, 83352 Altenmarkt\, Rupertsdorf 23\, Altenmarkt\, 83352\, Deutschland
CATEGORIES:Parties
ATTACH;FMTTYPE=image/png:https://tanzen-im-servus.de/wp-content/uploads/2025/11/Bildschirmfoto-2026-04-17-um-09.52.24.png
END:VEVENT
BEGIN:VEVENT
DTSTART;TZID=UTC:20260516T140000
DTEND;TZID=UTC:20260516T200000
DTSTAMP:20260424T194702
CREATED:20260412T095128Z
LAST-MODIFIED:20260412T095128Z
UID:4103-1778940000-1778961600@tanzen-im-servus.de
SUMMARY:West Coast Swing - Workshop - mit Tommy - anschließend WCS Party
DESCRIPTION:🤩 Wir haben großartige Neuigkeiten für euch! 🤩 \nWir freuen uns riesig\, euch einen ganz besonderen Gast präsentieren zu dürfen: Tommy\, Leiter des Tanzhaus Emotion in München\, kommt zu uns für einen inspirierenden West Coast Swing Workshop! \nMit über 15 Jahren Erfahrung in West Coast Swing und als langjähriger ausgebildeter ADTV-Tanzlehrer bringt Tommy nicht nur fundiertes Wissen mit\, sondern auch jede Menge Leidenschaft fürs Tanzen. Im Tanzhaus Emotion steht genau das im Mittelpunkt: Freude\, Ausdruck und die Liebe zur Bewegung – das werdet ihr auch in seinem Unterricht spüren. \n💃 Freut euch auf zwei Stunden voller Energie\, abwechslungsreicher Inhalte und ganz viel Spaß auf der Tanzfläche! 🕺 \nEgal ob ihr eure Basics festigen oder neue Impulse mitnehmen wollt – dieser Workshop ist die perfekte Gelegenheit\, gemeinsam zu lernen\, zu lachen und zu tanzen. \n👉 Seid dabei – wir können es kaum erwarten\, mit euch zu swingen! \n********************\n2 Stunden West Coast Swing Workshop\n14:00 – 16:00 Uhr\nGrundkenntnisse werden vorausgesetzt\nDu bist Dir unsicher ob du teilnehmen kannst? Frage uns gerne 🙂 \n🌞 -> bei schönem Wetter OUTDOOR 🌞\n🌞in Rupertsdorf 23\, 83352 Altenmarkt <- 🌞\n******************** \n– 26 Euro p. Person bei Paaranmeldung\n/ inkl. Party 29 Euro vergünstigter Eintritt \n– 29 Euro p. Person bei Einzelanmeldung\n/ inkl. Party 32 Euro vergünstigter Eintritt \n🌞 -> 16:15 – 20:00 Uhr WEST COAST SWING Party\nbei schönem Wetter OUTDOOR in Rupertsdorf 23\, 83352 Altenmarkt 🌞 \nbei schlechtem Wetter im Tanzstudio Servus\,\nChiemseestraße 3\, 83376 Truchtlaching\nder Ort wird kurzfristig je nach Witterung bekanntgegeben. \nAnmeldung unter: 0162 927 0238\noder divinemsproject@gmail.com \nWir freuen uns sehr auf Euch 🥰 \n♥️ Eure SERVUS Mädels ♥️
URL:https://tanzen-im-servus.de/event/west-coast-swing-workshop-mit-tommy-anschliessend-wcs-party/
LOCATION:Rupertsdorf 23\, 83352 Altenmarkt\, Rupertsdorf 23\, Altenmarkt\, 83352\, Deutschland
CATEGORIES:Parties,Workshops
ATTACH;FMTTYPE=image/png:https://tanzen-im-servus.de/wp-content/uploads/2026/04/Bildschirmfoto-2026-04-12-um-11.32.26.png
END:VEVENT
BEGIN:VEVENT
DTSTART;TZID=UTC:20260516T160000
DTEND;TZID=UTC:20260516T200000
DTSTAMP:20260424T194702
CREATED:20260412T100705Z
LAST-MODIFIED:20260412T115928Z
UID:4106-1778947200-1778961600@tanzen-im-servus.de
SUMMARY:West Coast Swing Party - bei schönem Wetter OUTDOOR in Rupertsdorf
DESCRIPTION:-> West Coast Swing Party bei schönem Wetter OUTDOOR\nin Rupertsdorf 23\, 83352 Altenmarkt💃🕺🏼<- \nAm Samstag\, den 16.05. findet eine West Coast Swing Party statt.\n📣Erzähl es gerne weiter ! 📣 \nDiese Party ist für all unsere West Coast Swing Tänzer – wir freuen uns sehr auf EUCH. \nvon 14:00 – 16:00 Uhr gibt es zwei weitere Workshopeinheiten in West Coast Swing mit Tommy vom Tanzhaus Emotion in München\ns. Link: https://www.facebook.com/share/185HDvmLuV/?mibextid=wwXIfr \n– bei schönem Wetter in unserer OUTDOOR Location in Rupertsdorf 23\, 83352 Altenmarkt \nbei schlechtem Wetter im Tanzstudio Servus\nin der Chiemseestraße 3\, 83376 Truchtlaching \n! wird kurzfristig hier und auf www.tanzen-im-servus.de bekanntgegeben\, da witterungsabhängig ! \n🔝 Qualität steht bei uns immer an erster Stelle!\n🔝 toller *NEUER* Tanzboden\nBitte nur mit sauberen Schuhen/ Tanzschuhen\, in den Raum 🙏🏽🍀\n🔝abwechslungsreiche Musikauswahl\n🔝günstige Getränkepreise\n🔝einzigartiges und familiäres Ambiente\n🔝Lüftungsanlage\n🔝kostenlose Parkplätze \nWir freuen uns sehr auf Euch 🥰 \n♥️ Eure SERVUS Mädels ♥️
URL:https://tanzen-im-servus.de/event/west-coast-swing-party-bei-schoenem-wetter-outdoor-in-rupertsdorf/
LOCATION:Rupertsdorf 23\, 83352 Altenmarkt\, Rupertsdorf 23\, Altenmarkt\, 83352\, Deutschland
CATEGORIES:Parties,Workshops
ATTACH;FMTTYPE=image/jpeg:https://tanzen-im-servus.de/wp-content/uploads/2026/04/Bildschirmfoto-2026-04-12-um-13.56.04.jpg
END:VEVENT
BEGIN:VEVENT
DTSTART;TZID=UTC:20260517T130000
DTEND;TZID=UTC:20260517T200000
DTSTAMP:20260424T194702
CREATED:20260402T211849Z
LAST-MODIFIED:20260417T080743Z
UID:4092-1779022800-1779048000@tanzen-im-servus.de
SUMMARY:Kizomba Party + Kizomba Mittelstufe Workshop - bei schönem Wetter OUTDOOR
DESCRIPTION:Kizomba / Urban Kiz Party im SERVUS\n\nDJane AngelKizz legt für Euch auf \nPartystart: 15:00 Uhr\n\nKizomba Mittelstufe Workshop von 13:30 – 15:00 Uhr mit Sónia und Martina\n🌞 BEI SCHÖNEM WETTER OUTDOOR – Rupertsdorf 23\, 83352 Altenmarkt\n\nWIR GRILLEN!\ndenkt daran\, Grillgut\, Teller und Besteck selbst mitzubringen\n(Müll bitte auch wieder mit nach Hause nehmen – Wir danken Euch) \n🌧️bei schlechtem Wetter ab 15:00 Uhr im SERVUS Truchtlaching \nWo wir tanzen\, wird hier\, und auch auf Facebook + WhatsApp-Verteiler kurzfristig bekannt gegeben. \nGanz wichtig ⚠️\n🚙Fahrt bitte langsam zu uns rüber und auch nachts wieder zurück\, Rücksicht auf die Nachbarn nehmen – 20 km/h – Wir danken Euch\n🍹Gekühlte Getränke haben wir und diese sind über uns zu beziehen – bitte keine Getränke selbst mitbringen! DANKE\n🏎️ Parken dürft ihr auf der großen Wiese (nicht im Innenhof parken\, Garagen müssen frei bleiben) – Bitte die Zufahrten von der Straße offen lassen und nicht zuparken sonst kann man weder rein noch rausfahren\n– Es gibt viele kostenlose Parkmöglichkeiten auf unserer Wiese \nOrt: Rupertsdorf 23\, 83352 Altenmarkt\nEs gibt viele Parkmöglichkeiten auf unserer Wiese \n\nKontakt: 0162 927 0238\nWir freuen uns sehr auf Euch 🥰 \n♥️ Eure SERVUS Mädels ♥️
URL:https://tanzen-im-servus.de/event/kizomba-party-kizomba-mittelstufe-workshop/
LOCATION:Rupertsdorf 23\, 83352 Altenmarkt\, Rupertsdorf 23\, Altenmarkt\, 83352\, Deutschland
CATEGORIES:Parties,Workshops
ATTACH;FMTTYPE=image/png:https://tanzen-im-servus.de/wp-content/uploads/2026/04/Bildschirmfoto-2026-04-17-um-10.05.31.png
END:VEVENT
BEGIN:VEVENT
DTSTART;TZID=UTC:20260517T133000
DTEND;TZID=UTC:20260517T150000
DTSTAMP:20260424T194702
CREATED:20260402T212336Z
LAST-MODIFIED:20260417T081500Z
UID:4094-1779024600-1779030000@tanzen-im-servus.de
SUMMARY:Kizomba Mittelstufe Workshop mit Sónia & Martina + Kizomba Party - bei schönem WETTER alles OUTDOOR
DESCRIPTION:Kizomba Mittelstufe Workshop mit Sónia und Martina im SERVUS \n🌞 BEI SCHÖNEM WETTER OUTDOOR – Rupertsdorf 23\, 83352 Altenmarkt \nwird hier oder auf Facebook kurzfristig bekannt gegeben ! \nLerne von erfahrenen Tanztrainern die sich in Portugal und auch Angola ausgebildet haben und weiterhin tun. Wir sind mittlerweile Ausbilder für Kizombatrainer beim Österreichischen u. Internationalen Tanzlehrerkongress und diversen Tanzschulen. \nGerne teilen wir unsere Leidenschaft mit Dir zu diesem Tanz 💗 \n-> Anschließend Kizomba Party mit DJane AngelKizz – bei schönem Wetter OUTDOOR \n✅ detailierter Unterricht\n✅ Locker und entspannt – Spaß garantiert!\n✅ Tolle Atmosphäre \n*********** *********** \n13:30 – 15:00 Uhr Kizomba Mittelstufe Workshop\nDu lernst: weitere Basics\, Musikverständnis\, Führungstechnik\nfür fortgeschrittenere Anfänger und erfahrene Tänzer geeignet\,\nVoraussetzung: die Grundbasics + Saida’s sind geläufig\nDu bist Dir unsicher ob du teilnehmen kannst? – Frag uns gerne 🙂 \n*********** *********** \nTeilnahme Workshop: \n20 € pro Person bei Paaranmeldung und 25€ bei Einzelanmeldung \n-> Nur mit vorheriger Anmeldung !\n-> begrenzte Plätze \n0162-9270238 oder 0162-8562055 \n♥️ Wir freuen uns auf DICH ♥️
URL:https://tanzen-im-servus.de/event/kizomba-mittelstufe-workshop-mit-sonia-martina-kizomba-party/
LOCATION:Servus Truchtlaching\, Chiemseestr. 3\, Truchtlaching\, Bayern\, 83376\, Deutschland
CATEGORIES:Parties,Workshops
ATTACH;FMTTYPE=image/jpeg:https://tanzen-im-servus.de/wp-content/uploads/2026/04/Bildschirmfoto-2026-04-17-um-10.13.56.jpg
END:VEVENT
BEGIN:VEVENT
DTSTART;TZID=UTC:20260521T190000
DTEND;TZID=UTC:20260522T000000
DTSTAMP:20260424T194702
CREATED:20260109T121043Z
LAST-MODIFIED:20260109T121043Z
UID:3949-1779390000-1779408000@tanzen-im-servus.de
SUMMARY:Discofox Party in der Mia in Trostberg
DESCRIPTION:Let’s Dance!\n\n*MIA Trostberg meets Servus Truchtlaching* \nTanzleidenschaft und mitreißende Discofox-Beats.\nDJ Martina wird Euch ab 19 Uhr mit ansteckendem und abwechslungsreichem Discofox-Mix auf die Tanzfläche locken und den ganzen Abend für beste Stimmung sorgen.Nach Herzenslust tanzen\, erfrischende Cocktails genießen -selbstverständlich auch alkoholfrei- und einen perfekten Abend unter Freunden erleben.\n\nWir freuen uns auf Euch
URL:https://tanzen-im-servus.de/event/discofox-party-in-der-mia-in-trostberg-4/
LOCATION:Mia Trostberg\, Trostberg
CATEGORIES:Parties
ATTACH;FMTTYPE=image/jpeg:https://tanzen-im-servus.de/wp-content/uploads/2026/01/608909960_1203916618505045_1578148952264281417_n.jpg
END:VEVENT
BEGIN:VEVENT
DTSTART;TZID=UTC:20260523T150000
DTEND;TZID=UTC:20260524T010000
DTSTAMP:20260424T194702
CREATED:20251108T190601Z
LAST-MODIFIED:20260402T211151Z
UID:3799-1779548400-1779584400@tanzen-im-servus.de
SUMMARY:Martina's Geburtstagsparty im SERVUS - Salsa\, Bachata\, Kizomba und mehr
DESCRIPTION:Martina feiert ihren Geburtstag im SERVUS bzw. OUTDOOR \nbei schönem Wetter starten wir ab 15:00 Uhr in unserem Garten in Rupertsdorf 23\, 83352 Altenmarkt \nbei schlechtem Wetter ab 19:15 Uhr im SERVUS in Truchtlaching\nmit einem kostenlosen Pre-Party-Workshop\n-> Bachata mit Claudi & Rudi \nBeste Beats von den DJ Sisters – DJane KizLiz & DJane AngelKizz \nEs gibt natürlich ein Kuchenbuffet und Prosecco für ALLE \n🔝 beste Musik in familiärem Ambiente ❤️\n🔝 toller *NEUER* Tanzboden\n(Bitte nur mit sauberen Schuhen/Tanzschuhen betreten-DANKE 🙏)\n🔝 Qualität steht bei uns immer an erster Stelle! 🔝🔝🔝\n🔝 Tanzen\, Chillen\, Freunde treffen\, einfach eine tolle Zeit haben 💃🕺\n🔝 Gekühlte Getränke zu günstigen Preisen an unserer Bar genießen 🍻🍹 \nWir freuen uns sehr auf Euch 🥰 \n♥️ Eure SERVUS Mädels ♥️
URL:https://tanzen-im-servus.de/event/martinas-geburtstagsparty-im-servus-salsa-bachata-kizomba-und-mehr/
LOCATION:Servus Truchtlaching\, Chiemseestr. 3\, Truchtlaching\, Bayern\, 83376\, Deutschland
CATEGORIES:Parties,Workshops
ATTACH;FMTTYPE=image/png:https://tanzen-im-servus.de/wp-content/uploads/2025/11/Bildschirmfoto-2026-04-02-um-23.10.57.png
END:VEVENT
END:VCALENDAR