BEGIN:VCALENDAR
VERSION:2.0
PRODID:-//Tanzen im Servus - ECPv6.0.12//NONSGML v1.0//EN
CALSCALE:GREGORIAN
METHOD:PUBLISH
X-WR-CALNAME:Tanzen im Servus
X-ORIGINAL-URL:https://tanzen-im-servus.de
X-WR-CALDESC:Veranstaltungen für Tanzen im Servus
REFRESH-INTERVAL;VALUE=DURATION:PT1H
X-Robots-Tag:noindex
X-PUBLISHED-TTL:PT1H
BEGIN:VTIMEZONE
TZID:UTC
BEGIN:STANDARD
TZOFFSETFROM:+0000
TZOFFSETTO:+0000
TZNAME:UTC
DTSTART:20260101T000000
END:STANDARD
END:VTIMEZONE
BEGIN:VEVENT
DTSTART;TZID=UTC:20260205T190000
DTEND;TZID=UTC:20260205T233000
DTSTAMP:20260424T205946
CREATED:20251108T174558Z
LAST-MODIFIED:20251108T174558Z
UID:3718-1770318000-1770334200@tanzen-im-servus.de
SUMMARY:Discofox Party
DESCRIPTION:Wie jeden 1. DONNERSTAG IM MONAT tanzen wir Discofox im Servus \n\nDJ Martina sorgt für beste und abwechslungsreiche Musik\n\n\nTanzstudio Servus\, Chiemseestraße 3\, 83376 Truchtlaching\n\n\n🔝 Qualität steht bei uns immer an erster Stelle!\n🔝über 100 Quadratmeter feinstes Tanzparkett\n🔝tolle abwechslungsreiche Musikauswahl\n🔝günstige Getränkepreise\n🔝einzigartiges und familiäres Ambiente\n🔝Lüftungsanlage\n🔝kostenlose Parkplätze \nKontakt: 0162 927 0238 \nWir freuen uns sehr auf Euch 🥰
URL:https://tanzen-im-servus.de/event/discofox-party-8/
LOCATION:Servus Truchtlaching\, Chiemseestr. 3\, Truchtlaching\, Bayern\, 83376\, Deutschland
CATEGORIES:Parties
ATTACH;FMTTYPE=image/png:https://tanzen-im-servus.de/wp-content/uploads/2025/11/Bildschirmfoto-2025-11-08-um-18.41.06.png
END:VEVENT
BEGIN:VEVENT
DTSTART;TZID=UTC:20260208T131500
DTEND;TZID=UTC:20260208T150000
DTSTAMP:20260424T205946
CREATED:20260104T150738Z
LAST-MODIFIED:20260104T154353Z
UID:3891-1770556500-1770562800@tanzen-im-servus.de
SUMMARY:Kizomba Workshop - weitere Basics
DESCRIPTION:Was ist eigentlich Kizomba?\nKizomba ist ein faszinierender Paartanz\, der seinen Ursprung in Angola hat. Er wird zu rhythmischer Musik mit afrikanischen und portugiesischen Einflüssen getanzt. Charakteristisch sind fließende Bewegungen\, sowie eine klare Führung. Kizomba legt viel Wert auf Musikalität\, Präzision und ein gutes Zusammenspiel zwischen den Tanzpartnern. \n*Lerne von den Besten*\nLerne von erfahrenen Tanztrainern die sich in Portugal und auch Angola ausgebildet haben. Wir sind mittlerweile Ausbilder für Kizombatrainer beim Österreichischen Tanzlehrerkongress und diversen Tanzschulen. \nGerne teilen wir unsere Leidenschaft mit Dir zu diesem Tanz 💗 \n-> Anschließend Kizomba Party <- \nhttps://www.facebook.com/share/17wS1mrqY1/?mibextid=wwXIfr \n✅ detailierter Unterricht\n✅ Locker und entspannt – Spaß garantiert!\n✅ Tolle Atmosphäre \n*********** ***********\n-> Sonntag\, den 08.02.26 \n13:15 – 14:45 Uhr Kizomba weitere Basics\nDu lernst: weitere Basics\, Musikverständnis\, Führungstechnik\nfür Anfänger und erfahrene Tänzer geeignet – Frag uns gerne 🙂 \n*********** *********** \nTeilnahme Workshop: 20 Euro \n-> Nur mit vorheriger Anmeldung !\n-> begrenzte Plätze \n0162-9270238 oder 0162-8562055 \n♥️ Wir freuen uns auf DICH ♥️
URL:https://tanzen-im-servus.de/event/kizomba-workshop-weitere-basics/
LOCATION:Servus Truchtlaching\, Chiemseestr. 3\, Truchtlaching\, Bayern\, 83376\, Deutschland
CATEGORIES:Workshops
ATTACH;FMTTYPE=image/png:https://tanzen-im-servus.de/wp-content/uploads/2026/01/Bildschirmfoto-2026-01-04-um-16.02.07.png
END:VEVENT
BEGIN:VEVENT
DTSTART;TZID=UTC:20260208T150000
DTEND;TZID=UTC:20260208T200000
DTSTAMP:20260424T205946
CREATED:20260101T164946Z
LAST-MODIFIED:20260104T154246Z
UID:3881-1770562800-1770580800@tanzen-im-servus.de
SUMMARY:Kizomba Party
DESCRIPTION:Kizomba / Urban Kiz Party im SERVUS \nDJane AngelKizz legt für Euch auf 😍 Partystart: 15:00 Uhr \nvorher von 13:15 – 14:45 Uhr Kizomba Basics Workshops s. Link: \nhttps://www.facebook.com/share/1LJj5HiUzg/?mibextid=wwXIfr \nDarf gerne geteilt werden ☺️ \n🔝 beste Musik in familiärem Ambiente ❤️\n🔝 toller Tanzboden\n🔝 Qualität steht bei uns immer an erster Stelle! 🔝🔝🔝\n🔝 Tanzen\, Chillen\, Freunde treffen\, einfach eine tolle Zeit haben 💃🕺\n🔝 Gekühlte Getränke zu günstigen Preisen an unserer Bar genießen 🍻🍹 \nWir freuen uns sehr auf Euch 🥰 \n♥️ Eure SERVUS Mädels ♥️
URL:https://tanzen-im-servus.de/event/kizomba-party-4/
LOCATION:Servus Truchtlaching\, Chiemseestr. 3\, Truchtlaching\, Bayern\, 83376\, Deutschland
CATEGORIES:Parties
ATTACH;FMTTYPE=image/png:https://tanzen-im-servus.de/wp-content/uploads/2026/01/Bildschirmfoto-2026-01-01-um-17.48.11.png
END:VEVENT
BEGIN:VEVENT
DTSTART;TZID=UTC:20260212T190000
DTEND;TZID=UTC:20260212T233000
DTSTAMP:20260424T205946
CREATED:20251108T180802Z
LAST-MODIFIED:20251108T180802Z
UID:3747-1770922800-1770939000@tanzen-im-servus.de
SUMMARY:Boogie Party
DESCRIPTION:Boogie Woogie Party am 2. Donnerstag im Monat im Servus in Truchtlaching\nEin Abend mit bester und abwechslungsreicher Boogie-Musik.\n\n\n🔝 Qualität steht bei uns immer an erster Stelle!\n🔝über 100 Quadratmeter feinstes Tanzparkett\n🔝tolle abwechslungsreiche Musikauswahl\n🔝günstige Getränkepreise\n🔝einzigartiges und familiäres Ambiente\n🔝Lüftungsanlage\n🔝kostenlose Parkplätze \nKontakt: 0162 927 0238 \nWir freuen uns sehr auf Euch 🥰 \n♥️ Eure SERVUS Mädels ♥️
URL:https://tanzen-im-servus.de/event/boogie-party-2/
LOCATION:Servus Truchtlaching\, Chiemseestr. 3\, Truchtlaching\, Bayern\, 83376\, Deutschland
CATEGORIES:Parties
ATTACH;FMTTYPE=image/png:https://tanzen-im-servus.de/wp-content/uploads/2025/11/Bildschirmfoto-2025-11-08-um-18.40.35.png
END:VEVENT
BEGIN:VEVENT
DTSTART;TZID=UTC:20260214T190000
DTEND;TZID=UTC:20260215T010000
DTSTAMP:20260424T205946
CREATED:20251108T185213Z
LAST-MODIFIED:20260128T214419Z
UID:3790-1771095600-1771117200@tanzen-im-servus.de
SUMMARY:Salsa Bachata Kizomba Party & kostenl. SEMBA Workshop - Valentine Edition
DESCRIPTION:Salsa-Bachata-Kizomba – Party mit DJane AngelKizz \nWIR SCHENKEN LIEBE ❤️❤️❤️❤️❤️❤️❤️ \n-> Kostenloser SEMBA-Workshop mit Sonia und Martina von 19:00 – 19:45 Uhr – KIZOMBA Basics vorausgesetzt<- \nPartybeginn: 19:45 Uhr\nim Servus in Truchtlaching \nDarf gerne geteilt werden ☺️ \n🔝 beste Musik in familiärem Ambiente ❤️\n🔝 toller Tanzboden\n🔝 Qualität steht bei uns immer an erster Stelle! 🔝🔝🔝\n🔝 Tanzen\, Chillen\, Freunde treffen\, einfach eine tolle Zeit haben 💃🕺\n🔝 Gekühlte Getränke zu günstigen Preisen an unserer Bar genießen 🍻🍹 \nWir freuen uns sehr auf Euch 🥰 \n♥️ Eure SERVUS Mädels ♥️
URL:https://tanzen-im-servus.de/event/salsa-bachata-kizomba-party-valentine-edition/
LOCATION:Servus Truchtlaching\, Chiemseestr. 3\, Truchtlaching\, Bayern\, 83376\, Deutschland
CATEGORIES:Parties
ATTACH;FMTTYPE=image/png:https://tanzen-im-servus.de/wp-content/uploads/2025/11/Bildschirmfoto-2026-01-25-um-12.16.44.png
END:VEVENT
BEGIN:VEVENT
DTSTART;TZID=UTC:20260219T190000
DTEND;TZID=UTC:20260220T000000
DTSTAMP:20260424T205946
CREATED:20260109T120735Z
LAST-MODIFIED:20260109T120735Z
UID:3942-1771527600-1771545600@tanzen-im-servus.de
SUMMARY:Discofox Party in der Mia in Trostberg
DESCRIPTION:Let’s Dance!\n\n*MIA Trostberg meets Servus Truchtlaching* \nTanzleidenschaft und mitreißende Discofox-Beats.\nDJ Martina wird Euch ab 19 Uhr mit ansteckendem und abwechslungsreichem Discofox-Mix auf die Tanzfläche locken und den ganzen Abend für beste Stimmung sorgen.Nach Herzenslust tanzen\, erfrischende Cocktails genießen -selbstverständlich auch alkoholfrei- und einen perfekten Abend unter Freunden erleben.\n\nWir freuen uns auf Euch
URL:https://tanzen-im-servus.de/event/discofox-party-in-der-mia-in-trostberg/
LOCATION:Mia Trostberg\, Trostberg
CATEGORIES:Parties
ATTACH;FMTTYPE=image/jpeg:https://tanzen-im-servus.de/wp-content/uploads/2026/01/608909960_1203916618505045_1578148952264281417_n.jpg
END:VEVENT
END:VCALENDAR