BEGIN:VCALENDAR
VERSION:2.0
PRODID:-//Tanzen im Servus - ECPv6.0.12//NONSGML v1.0//EN
CALSCALE:GREGORIAN
METHOD:PUBLISH
X-WR-CALNAME:Tanzen im Servus
X-ORIGINAL-URL:https://tanzen-im-servus.de
X-WR-CALDESC:Veranstaltungen für Tanzen im Servus
REFRESH-INTERVAL;VALUE=DURATION:PT1H
X-Robots-Tag:noindex
X-PUBLISHED-TTL:PT1H
BEGIN:VTIMEZONE
TZID:UTC
BEGIN:STANDARD
TZOFFSETFROM:+0000
TZOFFSETTO:+0000
TZNAME:UTC
DTSTART:20250101T000000
END:STANDARD
END:VTIMEZONE
BEGIN:VEVENT
DTSTART;TZID=UTC:20251002T190000
DTEND;TZID=UTC:20251003T000000
DTSTAMP:20260425T021542
CREATED:20241201T171333Z
LAST-MODIFIED:20250929T071910Z
UID:3103-1759431600-1759449600@tanzen-im-servus.de
SUMMARY:Disco Fox Party - im SERVUS
DESCRIPTION:Immer am ersten Donnerstag im Monat tanzen wir Discofox im SERVUS \n‼️da es am Feiertag leider nur 13 Grad haben wird\, tanzen wir am Donnerstag wie gewohnt ab 19:00 Uhr im SERVUS \nDJ Martina sorgt für beste und abwechslungsreiche Musik \n\n\n\nTanzstudio Servus\, Chiemseestraße 3\, 83376 Truchtlaching\n\n\n🔝 Qualität steht bei uns immer an erster Stelle!\n🔝über 100 Quadratmeter feinstes Tanzparkett\n🔝tolle abwechslungsreiche Musikauswahl\n🔝günstige Getränkepreise\n🔝einzigartiges und familiäres Ambiente\n🔝Lüftungsanlage\n🔝kostenlose Parkplätze \nKontakt: 0162 927 0238 \nWir freuen uns sehr auf Euch 🥰
URL:https://tanzen-im-servus.de/event/disco-fox-party/
LOCATION:Servus Truchtlaching\, Chiemseestr. 3\, Truchtlaching\, Bayern\, 83376\, Deutschland
CATEGORIES:Parties
ATTACH;FMTTYPE=image/jpeg:https://tanzen-im-servus.de/wp-content/uploads/2024/12/IMG_0988.jpeg
END:VEVENT
BEGIN:VEVENT
DTSTART;TZID=UTC:20251009T190000
DTEND;TZID=UTC:20251009T230000
DTSTAMP:20260425T021542
CREATED:20241201T171018Z
LAST-MODIFIED:20251108T180639Z
UID:3097-1760036400-1760050800@tanzen-im-servus.de
SUMMARY:Boogie-Woogie Party
DESCRIPTION:Boogie Woogie Party am 2. Donnerstag im Monat im Servus in Truchtlaching\nEin Abend mit bester und abwechslungsreicher Boogie-Musik.\n\n\n🔝 Qualität steht bei uns immer an erster Stelle!\n🔝über 100 Quadratmeter feinstes Tanzparkett\n🔝tolle abwechslungsreiche Musikauswahl\n🔝günstige Getränkepreise\n🔝einzigartiges und familiäres Ambiente\n🔝Lüftungsanlage\n🔝kostenlose Parkplätze \nKontakt: 0162 927 0238 \nWir freuen uns sehr auf Euch 🥰 \n♥️ Eure SERVUS Mädels ♥️
URL:https://tanzen-im-servus.de/event/boogie-woogie-party-14/
LOCATION:Servus Truchtlaching\, Chiemseestr. 3\, Truchtlaching\, Bayern\, 83376\, Deutschland
CATEGORIES:Parties
ATTACH;FMTTYPE=image/png:https://tanzen-im-servus.de/wp-content/uploads/2024/11/Bildschirm­foto-2024-11-30-um-20.05.00.png
END:VEVENT
BEGIN:VEVENT
DTSTART;TZID=UTC:20251012T103000
DTEND;TZID=UTC:20251012T140000
DTSTAMP:20260425T021542
CREATED:20250825T115434Z
LAST-MODIFIED:20250924T155931Z
UID:3616-1760265000-1760277600@tanzen-im-servus.de
SUMMARY:Kizomba Workshops - im SPACE in Freilassing - mit Sonia und Martina
DESCRIPTION:Du wolltest schon immer Kizomba lernen\, und die gleiche Leidenschaft\, die wir mit diesem Tanz verbinden\, mit uns teilen?\nLerne von erfahrenen Tanztrainern die sich mehrfach in Porto/Lissabon und auch Angola fortgebildet haben. Wir sind zusätzlich Ausbilder für Kizomba beim Österreichischen Tanzlehrerkongress und diversen Tanzschulen. \nGerne teilen wir unsere Leidenschaft mit Dir zu diesem Tanz. \n✅ detailierter Unterricht\n✅ Locker und entspannt – Spaß garantiert!\n✅ Tolle Atmosphäre \n*********** ***********\n-> Sonntag\, den 12.10.25 \n10:30 – 12:00 Uhr Kizomba – Master your Basics!\nTechnik\, Basics\, Musikverständnis\, Führungstechnik \n12:15 – 13:45 Uhr Kizomba Mittelstufe\nTechnik\, Sequenz\, Musikverständnis\, Führungstechnik \n*********** *********** \nim SPACE (Doyobe)\nRupertusstr. 51\, 83395 Freilassing \nPro Workshop á 90 Min.: 20 Euro \n-> Nur mit vorheriger Anmeldung !\n-> begrenzte Plätze \n0162-9270238 oder 0162-8562055 \n♥️ Wir freuen uns auf DICH ♥️
URL:https://tanzen-im-servus.de/event/kizomba-workshops-im-space-in-freilassing-mit-sonia-und-martina/
LOCATION:Space\, Rupertusstr. 51\, 83395 Freilassing\, Rupertusstr. 51\, Freilassing\, 83395\, Deutschland
CATEGORIES:Kurse,Workshops
ATTACH;FMTTYPE=image/png:https://tanzen-im-servus.de/wp-content/uploads/2025/08/Bildschirmfoto-2025-09-24-um-17.56.39.png
END:VEVENT
BEGIN:VEVENT
DTSTART;TZID=UTC:20251016T190000
DTEND;TZID=UTC:20251017T000000
DTSTAMP:20260425T021542
CREATED:20250724T100226Z
LAST-MODIFIED:20250724T100226Z
UID:3484-1760641200-1760659200@tanzen-im-servus.de
SUMMARY:Discofox Party im Mia in Trostberg
DESCRIPTION:Let’s Dance!\n\n*MIA Trostberg meets Servus Truchtlaching* \nTanzleidenschaft und mitreißende Discofox-Beats.\n\nBeginn: 19 Uhr DJ Martina wird euch mit ihren ansteckenden und abwechslungsreichen Discofox-Mix auf die Tanzfläche locken und den ganzen Abend für beste Stimmung sorgen.\nGenieße zu Beginn des Abends zauberhafte Schmankerl\, die wir aus unserer Hex’n Küch für Euch im MIA servieren. Anschließend nach Herzenslust tanzen\, erfrischende Cocktails genießen -selbstverständlich auch alkoholfrei- und einen perfekten Abend unter Freunden erleben.\n\nWir freuen uns auf Euch
URL:https://tanzen-im-servus.de/event/discofox-party-im-mia-in-trostberg/
LOCATION:Mia Trostberg\, Trostberg
CATEGORIES:Parties
ATTACH;FMTTYPE=image/jpeg:https://tanzen-im-servus.de/wp-content/uploads/2025/07/519429621_1076558167907558_3722610855768470738_n.jpg
END:VEVENT
BEGIN:VEVENT
DTSTART;TZID=UTC:20251030T190000
DTEND;TZID=UTC:20251030T230000
DTSTAMP:20260425T021542
CREATED:20250930T134824Z
LAST-MODIFIED:20250930T134824Z
UID:3673-1761850800-1761865200@tanzen-im-servus.de
SUMMARY:KARAOKE Abend im SERVUS - für ALLE :-)
DESCRIPTION:Wir veranstalten den nächsten öffentlichen Karaoke Abend im Servus – Singen\, Zuhören\, zusammen Spaß haben \nDieses Mal gibts ein Halloween-Special im SERVUS – es ist gruselig dekoriert und wer möchte darf sich gern verkleiden – das ist natürlich kein Muss \nBeginn: 19:00 Uhr \nWas erwartet Dich?\nEine riesige Auswahl an Songs für jeden Geschmack \nWir freuen uns darauf\, die Bühne mit Dir zu teilen und gemeinsam eine unvergessliche Nacht zu erleben! \nAlso ob aus nah und fern\, im SERVUS bekannt\, oder noch nie bei uns gewesen\, das wird wie immer ein großer Spaß. Egal ob du singen kannst oder nicht oder gern nur zuhörst\, hier bist DU herzlich willkommen – komm gern vorbei 😀😀😀
URL:https://tanzen-im-servus.de/event/karaoke-abend-im-servus-fuer-alle/
LOCATION:Servus Truchtlaching\, Chiemseestr. 3\, Truchtlaching\, Bayern\, 83376\, Deutschland
CATEGORIES:Parties
ATTACH;FMTTYPE=image/png:https://tanzen-im-servus.de/wp-content/uploads/2025/09/Bildschirmfoto-2025-09-30-um-15.47.05.png
END:VEVENT
BEGIN:VEVENT
DTSTART;TZID=UTC:20251031T193000
DTEND;TZID=UTC:20251101T010000
DTSTAMP:20260425T021542
CREATED:20241201T174453Z
LAST-MODIFIED:20251108T182449Z
UID:3141-1761939000-1761958800@tanzen-im-servus.de
SUMMARY:Salsa-Bachata-Kizomba Party mit DJane AngelKizz - Halloween  im Servus
DESCRIPTION:Salsa-Bachata-Kizomba mit DJane AngelKizz – Halloween-Kult-Party   im Servus\n\nVerkleidet oder nicht – ganz egal kommen wie man möchte und Spaß haben\n\nBeginn: 19:30 Uhr\ngünstige GetränkepreiseSchauriges FingerfoodHalloween-Sweetsgruselige Deko – DU wirst das Servus wie jedes Jahr nicht mehr wieder erkennen \n\n Qualität steht bei uns immer an erster Stelle!über 100 Quadratmeter feinstes Tanzparketttolle abwechslungsreiche Musikauswahlgünstige Getränkepreiseeinzigartiges und familiäres AmbienteLüftungsanlage kostenlose Parkplätze\n\nKontakt: 0162 927 0238\n\nWir freuen uns sehr auf Euch \n Eure SERVUS Mädels
URL:https://tanzen-im-servus.de/event/salsa-bachata-kizomba-party-mit-djane-angelkizz-halloween-im-servus/
LOCATION:Servus Truchtlaching\, Chiemseestr. 3\, Truchtlaching\, Bayern\, 83376\, Deutschland
CATEGORIES:Parties
ATTACH;FMTTYPE=image/png:https://tanzen-im-servus.de/wp-content/uploads/2024/12/Bildschirm­foto-2024-12-01-um-18.42.58.png
END:VEVENT
END:VCALENDAR