BEGIN:VCALENDAR
VERSION:2.0
PRODID:-//Tanzen im Servus - ECPv6.0.12//NONSGML v1.0//EN
CALSCALE:GREGORIAN
METHOD:PUBLISH
X-ORIGINAL-URL:https://tanzen-im-servus.de
X-WR-CALDESC:Veranstaltungen für Tanzen im Servus
REFRESH-INTERVAL;VALUE=DURATION:PT1H
X-Robots-Tag:noindex
X-PUBLISHED-TTL:PT1H
BEGIN:VTIMEZONE
TZID:UTC
BEGIN:STANDARD
TZOFFSETFROM:+0000
TZOFFSETTO:+0000
TZNAME:UTC
DTSTART:20250101T000000
END:STANDARD
END:VTIMEZONE
BEGIN:VEVENT
DTSTART;TZID=UTC:20250918T190000
DTEND;TZID=UTC:20250918T230000
DTSTAMP:20260425T034508
CREATED:20241130T184922Z
LAST-MODIFIED:20250909T093856Z
UID:3052-1758222000-1758236400@tanzen-im-servus.de
SUMMARY:Discofox Party - aufgrund Urlaub nun am 18.09. !!! :-) - im SERVUS\, da es Abends schon zu kalt draußen ist
DESCRIPTION:Aufgrund unseres Urlaubs tanzen wir Discofox im Servus am 18.09.\nDJ Martina sorgt für beste und abwechslungsreiche Musik \n\n\n\n\n\n\n\nTanzstudio Servus\, Chiemseestraße 3\, 83376 Truchtlaching\n\n\n🔝 Qualität steht bei uns immer an erster Stelle!\n🔝über 100 Quadratmeter feinstes Tanzparkett\n🔝tolle abwechslungsreiche Musikauswahl\n🔝günstige Getränkepreise\n🔝einzigartiges und familiäres Ambiente\n🔝Lüftungsanlage\n🔝kostenlose Parkplätze \nKontakt: 0162 927 0238 \n\n\n\n\nWir freuen uns sehr auf Euch 🥰 \n♥️ Eure SERVUS Mädels ♥️
URL:https://tanzen-im-servus.de/event/discofox-party-aufgrund-urlaub-nun-am-18-09/
LOCATION:Servus Truchtlaching\, Chiemseestr. 3\, Truchtlaching\, Bayern\, 83376\, Deutschland
CATEGORIES:Parties
ATTACH;FMTTYPE=image/png:https://tanzen-im-servus.de/wp-content/uploads/2024/11/Bildschirmfoto-2025-09-09-um-11.28.04.png
END:VEVENT
BEGIN:VEVENT
DTSTART;TZID=UTC:20250925T190000
DTEND;TZID=UTC:20250925T230000
DTSTAMP:20260425T034508
CREATED:20241130T193827Z
LAST-MODIFIED:20250909T094821Z
UID:3086-1758826800-1758841200@tanzen-im-servus.de
SUMMARY:Boogie Woogie Party - Aufgrund Urlaub ausnahmsweise erst am 25.09. !!!
DESCRIPTION:Boogie Woogie Party aufgrund unseres Urlaubs erst am 25.09. im Servus in Truchtlaching\nEin Abend mit bester und abwechslungsreicher Boogie-Musik.\n\n\n\n\n\n\n\n\n\nTanzstudio Servus\, Chiemseestraße 3\, 83376 Truchtlaching\n\n\n🔝 Qualität steht bei uns immer an erster Stelle!\n🔝über 100 Quadratmeter feinstes Tanzparkett\n🔝tolle abwechslungsreiche Musikauswahl\n🔝günstige Getränkepreise\n🔝einzigartiges und familiäres Ambiente\n🔝Lüftungsanlage\n🔝kostenlose Parkplätze \nKontakt: 0162 927 0238 \n\n\n\n\nWir freuen uns sehr auf Euch 🥰 \n♥️ Eure SERVUS Mädels ♥️
URL:https://tanzen-im-servus.de/event/boogie-woogie-party-aufgrund-urlaub-ausnahmsweise-am-25-09/
LOCATION:Servus Truchtlaching\, Chiemseestr. 3\, Truchtlaching\, Bayern\, 83376\, Deutschland
CATEGORIES:Parties
ATTACH;FMTTYPE=image/png:https://tanzen-im-servus.de/wp-content/uploads/2024/11/Bildschirmfoto-2025-09-09-um-11.46.10.png
END:VEVENT
BEGIN:VEVENT
DTSTART;TZID=UTC:20250927T164500
DTEND;TZID=UTC:20250927T190000
DTSTAMP:20260425T034508
CREATED:20250819T112625Z
LAST-MODIFIED:20250828T121650Z
UID:3523-1758991500-1758999600@tanzen-im-servus.de
SUMMARY:Salsa & Bachata Workshops - Mittelstufe light - im SERVUS
DESCRIPTION:Lerne weitere Schritte\, baue auf bereits Erlerntem auf und genieße eine tolle Zeit \nAnschließend kannst Du deine neuen Schritte auf der SaBaKiz Party gleich weiter vertiefen und vertanzen.\ns. Link: https://www.facebook.com/share/176296dqUv/?mibextid=wwXIfr \n– perfekt für Tänzer mit ersten Vorkenntnissen 🌟 \n✅ detailierter Unterricht\n✅ Locker und entspannt – Spaß garantiert!\n✅ Tolle Atmosphäre \nVertiefe deine Salsa / Bachata Reise und melde Dich bei uns an!\n***********\n-> am Samstag\, den 27.09.25 \n16:45 – 17:45 Uhr Salsa\n18:00 – 19:00 Uhr Bachata \n***********\nTeilnahme pro Workshop: 12 Euro \n-> Nur mit vorheriger Anmeldung !\n-> begrenzte Plätze \n0162-9270238 oder 0162-8562055 \n♥️ Wir freuen uns auf DICH ♥️
URL:https://tanzen-im-servus.de/event/salsa-bachata-workshops-mittelstufe-light-bei-schoenem-wetter-outdoor/
LOCATION:Servus Truchtlaching\, Chiemseestr. 3\, Truchtlaching\, Bayern\, 83376\, Deutschland
CATEGORIES:Parties,Workshops
ATTACH;FMTTYPE=image/png:https://tanzen-im-servus.de/wp-content/uploads/2025/08/Bildschirmfoto-2025-08-28-um-14.14.35.png
END:VEVENT
BEGIN:VEVENT
DTSTART;TZID=UTC:20250927T180000
DTEND;TZID=UTC:20250928T010000
DTSTAMP:20260425T034508
CREATED:20241201T173650Z
LAST-MODIFIED:20250828T121143Z
UID:3130-1758996000-1759021200@tanzen-im-servus.de
SUMMARY:Salsa\, Bachata\, Kizomba Party - im Servus da es draußen zu frisch ist
DESCRIPTION:Salsa Bachata Kizomba Party im ausgeglichenen Mix\nsehr wahrscheinlich im Servus\, da es Abends draußen schon zu frisch ist\n\nVorher finden Salsa/Bachata Mittelstufe Workshops statt:\ns. Link: https://www.facebook.com/share/16v647LP29/?mibextid=wwXIfr\n\nDJane AngelKizz legt für Euch auf 😍 \nam besten gleich auf Zusagen gehen\, um keine Infos zu verpassen \nDarf gerne geteilt werden ☺️ \n🔝 beste Musik in familiärem Ambiente ❤️\n🔝 toller Tanzboden\n🔝 Qualität steht bei uns immer an erster Stelle! 🔝🔝🔝\n🔝 Tanzen\, Chillen\, Freunde treffen\, einfach eine tolle Zeit haben 💃🕺\n🔝 Gekühlte Getränke zu günstigen Preisen an unserer Bar genießen 🍻🍹 \n\nWir freuen uns sehr auf Euch 🥰 \n♥️ Eure SERVUS Mädels ♥️
URL:https://tanzen-im-servus.de/event/salsa-bachata-kizomba-party-6/
LOCATION:Servus Truchtlaching\, Chiemseestr. 3\, Truchtlaching\, Bayern\, 83376\, Deutschland
CATEGORIES:Parties
ATTACH;FMTTYPE=image/png:https://tanzen-im-servus.de/wp-content/uploads/2024/12/Bildschirmfoto-2025-08-28-um-14.08.06.png
END:VEVENT
BEGIN:VEVENT
DTSTART;TZID=UTC:20250928T123000
DTEND;TZID=UTC:20250928T150000
DTSTAMP:20260425T034508
CREATED:20250819T114126Z
LAST-MODIFIED:20250925T063135Z
UID:3527-1759062600-1759071600@tanzen-im-servus.de
SUMMARY:Kizomba Beginner & Mittelstufe light Workshops - anschl. Kizomba Party
DESCRIPTION:Du wolltest schon immer Kizomba lernen\, und die gleiche Leidenschaft\, die wir mit diesem Tanz verbinden\, mit uns teilen?\nLerne von erfahrenen Tanztrainern die sich mehrfach in Porto/Lissabon und auch Angola fortgebildet haben. Wir sind zusätzlich Ausbilder für Kizomba beim Österreichischen Tanzlehrerkongress und diversen Tanzschulen. \nGerne teilen wir unsere Leidenschaft mit Dir zu diesem Tanz. \n-> Anschließend Kizomba Party <-\ns. Link: https://www.facebook.com/share/1CMyHwLqfV/?mibextid=wwXIfr \n✅ detailierter Unterricht\n✅ Locker und entspannt – Spaß garantiert!\n✅ Tolle Atmosphäre \n*********** ***********\n-> Sonntag\, den 28.09.25 \n12:15 – 13:45 Uhr Kizomba Beginner\nDu lernst: Basics\, Musikverständnis\, Führungstechnik \n14:00 – 15:00 Uhr Kizomba Mittelstufe light\n(perfekt für Tänzer mit leichten Vorkenntnissen oder zur Auffrischung für erfahrenere Tänzer)\n*********** *********** \nTeilnahme Workshop 1: 18 Euro           Workshop 2: 12 Euro \n-> Nur mit vorheriger Anmeldung !\n-> begrenzte Plätze \n0162-9270238 oder 0162-8562055 \n♥️ Wir freuen uns auf DICH ♥️
URL:https://tanzen-im-servus.de/event/kizomba-beginner-mittelstufe-light-workshops-anschl-kizomba-party-bei-schoenem-wetter-outdoor/
LOCATION:Servus Truchtlaching\, Chiemseestr. 3\, Truchtlaching\, Bayern\, 83376\, Deutschland
CATEGORIES:Parties,Workshops
ATTACH;FMTTYPE=image/png:https://tanzen-im-servus.de/wp-content/uploads/2025/08/Bildschirmfoto-2025-09-25-um-08.30.34.png
END:VEVENT
END:VCALENDAR