BEGIN:VCALENDAR
VERSION:2.0
PRODID:-//Tanzen im Servus - ECPv6.0.12//NONSGML v1.0//EN
CALSCALE:GREGORIAN
METHOD:PUBLISH
X-ORIGINAL-URL:https://tanzen-im-servus.de
X-WR-CALDESC:Veranstaltungen für Tanzen im Servus
REFRESH-INTERVAL;VALUE=DURATION:PT1H
X-Robots-Tag:noindex
X-PUBLISHED-TTL:PT1H
BEGIN:VTIMEZONE
TZID:UTC
BEGIN:STANDARD
TZOFFSETFROM:+0000
TZOFFSETTO:+0000
TZNAME:UTC
DTSTART:20260101T000000
END:STANDARD
END:VTIMEZONE
BEGIN:VEVENT
DTSTART;TZID=UTC:20260710T180000
DTEND;TZID=UTC:20260711T010000
DTSTAMP:20260425T021231
CREATED:20251215T224428Z
LAST-MODIFIED:20260420T081620Z
UID:3855-1783706400-1783731600@tanzen-im-servus.de
SUMMARY:OUTDOOR - Salsa Bachata Kizomba Party - wir grillen !
DESCRIPTION:OUTDOOR – Salsa Bachata Kizomba Party im ausgeglichenen Mix \nDJane AngelKizz legt für Euch auf 😍 \n🌞Partystart schon ab 18:00 Uhr OUTDOOR 🙂 bei uns im Garten Rupertsdorf 23\, 83352 Altenmarkt \n– Tanzen\, Grillen\, Chillen\, Freunde treffen\, einfach eine tolle Zeit haben \nWer mitgrillen möchte\, bringt sein Essen+Teller+Besteck 🥩🥗🥖🍽️ mit und wir Essen bei toller Musik gemeinsam im Garten (Bitte Müll wieder mit nach Hause nehmen – Lieben Dank) 😎 \n🧐 Ganz wichtig 🧐\n– 🚗 Fahrt bitte langsam zu uns rüber und auch nachts wieder zurück\, Rücksicht auf die Nachbarn nehmen – 20 km – Wir danken Euch \nGekühlte Getränke haben wir und diese sind über uns zu beziehen – bitte keine Getränke selbst mitbringen! DANKE 🥤🥂🍷🍺 \n🚙 Parken dürft ihr auf der großen Wiese (nicht im Innenhof parken\, Garagen müssen frei bleiben) – Bitte die Zufahrten von der Straße offen lassen und nicht zuparken sonst kann man weder rein noch rausfahren 😉 \nWir freuen uns sehr auf Euch 🥰 \n♥️ Eure SERVUS Mädels ♥️
URL:https://tanzen-im-servus.de/event/outdoor-salsa-bachata-kizomba-party-wir-grillen/
LOCATION:Rupertsdorf 23\, 83352 Altenmarkt\, Rupertsdorf 23\, Altenmarkt\, 83352\, Deutschland
CATEGORIES:Parties
ATTACH;FMTTYPE=image/png:https://tanzen-im-servus.de/wp-content/uploads/2025/12/Bildschirmfoto-2026-04-20-um-10.15.02.png
END:VEVENT
END:VCALENDAR