BEGIN:VCALENDAR
VERSION:2.0
PRODID:-//Tanzen im Servus - ECPv6.0.12//NONSGML v1.0//EN
CALSCALE:GREGORIAN
METHOD:PUBLISH
X-WR-CALNAME:Tanzen im Servus
X-ORIGINAL-URL:https://tanzen-im-servus.de
X-WR-CALDESC:Veranstaltungen für Tanzen im Servus
REFRESH-INTERVAL;VALUE=DURATION:PT1H
X-Robots-Tag:noindex
X-PUBLISHED-TTL:PT1H
BEGIN:VTIMEZONE
TZID:UTC
BEGIN:STANDARD
TZOFFSETFROM:+0000
TZOFFSETTO:+0000
TZNAME:UTC
DTSTART:20260101T000000
END:STANDARD
END:VTIMEZONE
BEGIN:VEVENT
DTSTART;TZID=UTC:20260709T190000
DTEND;TZID=UTC:20260709T233000
DTSTAMP:20260425T004530
CREATED:20251108T181738Z
LAST-MODIFIED:20251108T181738Z
UID:3762-1783623600-1783639800@tanzen-im-servus.de
SUMMARY:Boogie Party - bei schönem Wetter OUTDOOR
DESCRIPTION:Boogie Woogie Party am 2. Donnerstag im Monat im Servus in Truchtlaching\nEin Abend mit bester und abwechslungsreicher Boogie-Musik.\n\n\nbei schönem Wetter tanzen wir ab 14:00 Uhr Outdoor in Rupertsdorf 23\, 83352 Altenmarkt\n-> bei schlechtem Wetter ab 19:00 Uhr im SERVUS Truchtlaching\n\n\n\n\nWo wir tanzen\, wird hier\, und auch auf Facebook + WhatsApp-Verteiler kurzfristig bekannt gegeben.\n\n\n\n\n\n\n Ganz wichtig –  Fahrt bitte langsam zu uns rüber und auch nachts wieder zurück\, Rücksicht auf die Nachbarn nehmen – 20 km/h – Wir danken Euch\n– Gekühlte Getränke haben wir und diese sind über uns zu beziehen – bitte keine Getränke selbst mitbringen! DANKE \n Parken dürft ihr auf der großen Wiese (nicht im Innenhof parken\, Garagen müssen frei bleiben) – Bitte die Zufahrten von der Straße offen lassen und nicht zuparken sonst kann man weder rein noch rausfahren \nEs gibt viele kostenlose Parkmöglichkeiten auf unserer Wiese\n\n\n\n\n\n\nOrt: Rupertsdorf 23\, 83352 AltenmarktEs gibt viele Parkmöglichkeiten auf unserer Wiese\n\nKontakt: 0162 927 0238\n\n\nWir freuen uns sehr auf Euch 🥰 \n♥️ Eure SERVUS Mädels ♥️
URL:https://tanzen-im-servus.de/event/boogie-party-bei-schoenem-wetter-outdoor-2/
LOCATION:Rupertsdorf 23\, 83352 Altenmarkt\, Rupertsdorf 23\, Altenmarkt\, 83352\, Deutschland
CATEGORIES:Parties
ATTACH;FMTTYPE=image/png:https://tanzen-im-servus.de/wp-content/uploads/2025/11/Bildschirmfoto-2025-11-08-um-19.15.44.png
END:VEVENT
END:VCALENDAR