BEGIN:VCALENDAR
VERSION:2.0
PRODID:-//Tanzen im Servus - ECPv6.0.12//NONSGML v1.0//EN
CALSCALE:GREGORIAN
METHOD:PUBLISH
X-ORIGINAL-URL:https://tanzen-im-servus.de
X-WR-CALDESC:Veranstaltungen für Tanzen im Servus
REFRESH-INTERVAL;VALUE=DURATION:PT1H
X-Robots-Tag:noindex
X-PUBLISHED-TTL:PT1H
BEGIN:VTIMEZONE
TZID:UTC
BEGIN:STANDARD
TZOFFSETFROM:+0000
TZOFFSETTO:+0000
TZNAME:UTC
DTSTART:20260101T000000
END:STANDARD
END:VTIMEZONE
BEGIN:VEVENT
DTSTART;TZID=UTC:20260604T140000
DTEND;TZID=UTC:20260604T233000
DTSTAMP:20260424T221721
CREATED:20251108T175423Z
LAST-MODIFIED:20251108T181048Z
UID:3726-1780581600-1780615800@tanzen-im-servus.de
SUMMARY:Discofox Party - bei schönem Wetter am Nachmittag wegen des Feiertags in unserem Garten
DESCRIPTION:Wie jeden 1. DONNERSTAG IM MONAT tanzen wir Discofox im Servus bzw. bei schönem Wetter ab Nachmittag in unserem Garten\n\n\nDJ Martina sorgt für beste und abwechslungsreiche Musik\n\nbei schönem Wetter OUTDOOR: Rupertsdorf 23\, 83352 Altenmarkt\n\nbei schlechtem Wetter INDOOR: Tanzstudio Servus\, Chiemseestraße 3\, 83376 Truchtlaching\nWo wir tanzen\, wird hier\, und auch auf Facebook + WhatsApp-Verteiler kurzfristig bekannt gegeben.\n\n\n\n\n\n\n Ganz wichtig –  Fahrt bitte langsam zu uns rüber und auch nachts wieder zurück\, Rücksicht auf die Nachbarn nehmen – 20 km/h – Wir danken Euch\n– Gekühlte Getränke haben wir und diese sind über uns zu beziehen – bitte keine Getränke selbst mitbringen! DANKE \n Parken dürft ihr auf der großen Wiese (nicht im Innenhof parken\, Garagen müssen frei bleiben) – Bitte die Zufahrten von der Straße offen lassen und nicht zuparken sonst kann man weder rein noch rausfahren \nEs gibt viele kostenlose Parkmöglichkeiten auf unserer Wiese\n\nKontakt: 0162 927 0238\n\n\nWir freuen uns sehr auf Euch 🥰 \n♥️ Eure SERVUS Mädels ♥️
URL:https://tanzen-im-servus.de/event/discofox-party-bei-schoenem-wetter-am-nachmittag-in-unserem-garten/
LOCATION:Servus Truchtlaching\, Chiemseestr. 3\, Truchtlaching\, Bayern\, 83376\, Deutschland
CATEGORIES:Parties
ATTACH;FMTTYPE=image/png:https://tanzen-im-servus.de/wp-content/uploads/2025/11/Bildschirmfoto-2025-11-08-um-18.41.06.png
END:VEVENT
END:VCALENDAR