BEGIN:VCALENDAR
VERSION:2.0
PRODID:-//Tanzen im Servus - ECPv6.0.12//NONSGML v1.0//EN
CALSCALE:GREGORIAN
METHOD:PUBLISH
X-WR-CALNAME:Tanzen im Servus
X-ORIGINAL-URL:https://tanzen-im-servus.de
X-WR-CALDESC:Veranstaltungen für Tanzen im Servus
REFRESH-INTERVAL;VALUE=DURATION:PT1H
X-Robots-Tag:noindex
X-PUBLISHED-TTL:PT1H
BEGIN:VTIMEZONE
TZID:UTC
BEGIN:STANDARD
TZOFFSETFROM:+0000
TZOFFSETTO:+0000
TZNAME:UTC
DTSTART:20260101T000000
END:STANDARD
END:VTIMEZONE
BEGIN:VEVENT
DTSTART;TZID=UTC:20260419T130000
DTEND;TZID=UTC:20260419T150000
DTSTAMP:20260424T193749
CREATED:20260113T084515Z
LAST-MODIFIED:20260113T084515Z
UID:3959-1776603600-1776610800@tanzen-im-servus.de
SUMMARY:Boogie Mittelstufe Workshop mit Gabi und Hans
DESCRIPTION:Wir freuen uns sehr Euch wieder einen Boogie Woogie Mittelstufe Workshop mit Gabi und Hans Prems im Servus in Truchtlaching anbieten zu können.\n\nGabi und Hans tanzen seit ca.1998 und seit 2008 Turniere in der Seniorenklasse. Sie waren Tänzer im Deutschen Nationalteam.Ihre Erfolge:Bayerische Vizemeister\, Deutsche VizemeisterWM und EM Endrundenteilnehmer\, jahrelange Worldcup-Teilnahmen.\n\n 24 Euro am Sonntag\, den 19.04.202613:00 – 15:00 Uhr\n\nAnmeldung:Sónia Handy: 0162 9270238E-Mail: divinemsproject@gmail.com\n\nWir freuen uns mega auf diesen tollen Boogie-Workshop
URL:https://tanzen-im-servus.de/event/boogie-mittelstufe-workshop-mit-gabi-und-hans-2/
LOCATION:Servus Truchtlaching\, Chiemseestr. 3\, Truchtlaching\, Bayern\, 83376\, Deutschland
CATEGORIES:Workshops
ATTACH;FMTTYPE=image/png:https://tanzen-im-servus.de/wp-content/uploads/2026/01/Bildschirmfoto-2026-01-13-um-09.41.30.png
END:VEVENT
BEGIN:VEVENT
DTSTART;TZID=UTC:20260419T153000
DTEND;TZID=UTC:20260419T200000
DTSTAMP:20260424T193749
CREATED:20260304T101707Z
LAST-MODIFIED:20260304T101707Z
UID:4032-1776612600-1776628800@tanzen-im-servus.de
SUMMARY:Kizomba Party mit DJane AngelKizz
DESCRIPTION:Kizomba / Urban Kiz Party im SERVUS\n\nDJane AngelKizz legt für Euch auf  Partystart: dieses Mal erst um 15:30 Uhr\n\n🔝 beste Musik in familiärem Ambiente ❤️\n🔝 toller *NEUER* Tanzboden\n(Bitte nur mit sauberen Schuhen/Tanzschuhen betreten-DANKE 🙏)\n🔝 Qualität steht bei uns immer an erster Stelle! 🔝🔝🔝\n🔝 Tanzen\, Chillen\, Freunde treffen\, einfach eine tolle Zeit haben 💃🕺\n🔝 Gekühlte Getränke zu günstigen Preisen an unserer Bar genießen 🍻🍹 \nWir freuen uns sehr auf Euch 🥰 \n♥️ Eure SERVUS Mädels ♥️
URL:https://tanzen-im-servus.de/event/kizomba-party-mit-djane-angelkizz-2/
LOCATION:Servus Truchtlaching\, Chiemseestr. 3\, Truchtlaching\, Bayern\, 83376\, Deutschland
CATEGORIES:Parties
ATTACH;FMTTYPE=image/png:https://tanzen-im-servus.de/wp-content/uploads/2026/03/Bildschirmfoto-2026-03-04-um-11.15.32.png
END:VEVENT
END:VCALENDAR