BEGIN:VCALENDAR
VERSION:2.0
PRODID:-//Tanzen im Servus - ECPv6.0.12//NONSGML v1.0//EN
CALSCALE:GREGORIAN
METHOD:PUBLISH
X-WR-CALNAME:Tanzen im Servus
X-ORIGINAL-URL:https://tanzen-im-servus.de
X-WR-CALDESC:Veranstaltungen für Tanzen im Servus
REFRESH-INTERVAL;VALUE=DURATION:PT1H
X-Robots-Tag:noindex
X-PUBLISHED-TTL:PT1H
BEGIN:VTIMEZONE
TZID:UTC
BEGIN:STANDARD
TZOFFSETFROM:+0000
TZOFFSETTO:+0000
TZNAME:UTC
DTSTART:20260101T000000
END:STANDARD
END:VTIMEZONE
BEGIN:VEVENT
DTSTART;TZID=UTC:20260411T180000
DTEND;TZID=UTC:20260411T193000
DTSTAMP:20260424T194524
CREATED:20260308T101907Z
LAST-MODIFIED:20260308T185100Z
UID:4039-1775930400-1775935800@tanzen-im-servus.de
SUMMARY:Kizomba Mittelstufe Workshop mit Sonia und Martina & anschl. SaBaKiz Party im SERVUS
DESCRIPTION:Kizomba Mittelstufe Workshop mit Sónia und Martina im SERVUS \nLerne von erfahrenen Tanztrainern die sich in Portugal und auch Angola ausgebildet haben und weiterhin tun. Wir sind mittlerweile Ausbilder für Kizombatrainer beim Österreichischen u. Internationalen Tanzlehrerkongress und diversen Tanzschulen. \nGerne teilen wir unsere Leidenschaft mit Dir zu diesem Tanz 💗 \n-> Anschließend feiert das SERVUS seinen 6. Geburtstag\nSalsa\, Bachata und Kizomba im ausgeglichenen Mix mit DJane AngelKizz <- \ns. Link: https://www.facebook.com/share/1B1QCV15HX/?mibextid=wwXIfr \n✅ detailierter Unterricht\n✅ Locker und entspannt – Spaß garantiert!\n✅ Tolle Atmosphäre \n*********** ***********\n-> Samstag\, den 11.04.26 \n18:00 – 19:30 Uhr Kizomba Mittelstufe Workshop\nDu lernst: weitere Basics\, Musikverständnis\, Führungstechnik\nfür Anfänger und erfahrene Tänzer geeignet\,\nVoraussetzung: die Grundbasics + Saida’s sind geläufig\nDu bist Dir unsicher ob du teilnehmen kannst? – Frag uns gerne 🙂 \n*********** *********** \nTeilnahme Workshop: \n20 € pro Person bei Paaranmeldung und 25€ bei Einzelanmeldung \n-> Nur mit vorheriger Anmeldung !\n-> begrenzte Plätze \n0162-9270238 oder 0162-8562055 \n♥️ Wir freuen uns auf DICH ♥️
URL:https://tanzen-im-servus.de/event/kizomba-mittelstufe-workshop-mit-sonia-und-martina-anschl-sabakiz-party-im-servus/
CATEGORIES:Parties,Workshops
ATTACH;FMTTYPE=image/png:https://tanzen-im-servus.de/wp-content/uploads/2026/03/Bildschirmfoto-2026-03-08-um-11.16.35.png
END:VEVENT
BEGIN:VEVENT
DTSTART;TZID=UTC:20260411T180000
DTEND;TZID=UTC:20260412T010000
DTSTAMP:20260424T194524
CREATED:20251108T190220Z
LAST-MODIFIED:20260308T102104Z
UID:3796-1775930400-1775955600@tanzen-im-servus.de
SUMMARY:Unser SERVUS feiert seinen 6. Geburtstag & Kizomba Mittelst. Workshop
DESCRIPTION:Salsa-Bachata-Kizomba – 6 Jahre SERVUS – Party \nmit DJane AngelKizz \nBeginn: 19:30 Uhr\nim Servus in Truchtlaching \nProsecco + Kuchen \n-> von 18:00 – 19:30 Uhr geben Sónia und Martina einen Kizomba Mittelstufe Kurs \n(s. eigene Veranstaltung)\nNur mit Voranmeldung\, da begrenzte Plätze !\nLink: https://www.facebook.com/share/1P8MzFBYa5/?mibextid=wwXIfr \n🔝 beste Musik in familiärem Ambiente ❤️\n🔝 toller *NEUER* Tanzboden\n(Bitte nur mit sauberen Schuhen/Tanzschuhen betreten-DANKE 🙏)\n🔝 Qualität steht bei uns immer an erster Stelle! 🔝🔝🔝\n🔝 Tanzen\, Chillen\, Freunde treffen\, einfach eine tolle Zeit haben 💃🕺\n🔝 Gekühlte Getränke zu günstigen Preisen an unserer Bar genießen 🍻🍹 \nWir freuen uns sehr auf Euch 🥰 \n♥️ Eure SERVUS Mädels ♥️
URL:https://tanzen-im-servus.de/event/unser-servus-feiert-seinen-6-geburtstag/
LOCATION:Servus Truchtlaching\, Chiemseestr. 3\, Truchtlaching\, Bayern\, 83376\, Deutschland
CATEGORIES:Parties,Workshops
ATTACH;FMTTYPE=image/png:https://tanzen-im-servus.de/wp-content/uploads/2025/11/Bildschirmfoto-2026-03-08-um-11.04.24.png
END:VEVENT
END:VCALENDAR