BEGIN:VCALENDAR
VERSION:2.0
PRODID:-//Tanzen im Servus - ECPv6.0.12//NONSGML v1.0//EN
CALSCALE:GREGORIAN
METHOD:PUBLISH
X-WR-CALNAME:Tanzen im Servus
X-ORIGINAL-URL:https://tanzen-im-servus.de
X-WR-CALDESC:Veranstaltungen für Tanzen im Servus
REFRESH-INTERVAL;VALUE=DURATION:PT1H
X-Robots-Tag:noindex
X-PUBLISHED-TTL:PT1H
BEGIN:VTIMEZONE
TZID:UTC
BEGIN:STANDARD
TZOFFSETFROM:+0000
TZOFFSETTO:+0000
TZNAME:UTC
DTSTART:20260101T000000
END:STANDARD
END:VTIMEZONE
BEGIN:VEVENT
DTSTART;TZID=UTC:20260409T190000
DTEND;TZID=UTC:20260409T233000
DTSTAMP:20260424T193806
CREATED:20251108T174747Z
LAST-MODIFIED:20260307T203032Z
UID:3722-1775761200-1775777400@tanzen-im-servus.de
SUMMARY:Discofox Party
DESCRIPTION:-> am 02.04. Gründonnerstag ist Tanzverbot\, also tanzen wir am 09.04. ab 19:00 Uhr DISCOFOX im SERVUS 💃🕺🏼<- \n\n\nDJ Martina sorgt für beste und abwechslungsreiche Musik\n\n\nTanzstudio Servus\, Chiemseestraße 3\, 83376 Truchtlaching\n\n\n🔝 beste Musik in familiärem Ambiente ❤️\n🔝 toller *NEUER* Tanzboden\n(Bitte nur mit sauberen Schuhen/Tanzschuhen betreten-DANKE 🙏)\n🔝 Qualität steht bei uns immer an erster Stelle! 🔝🔝🔝\n🔝 Tanzen\, Chillen\, Freunde treffen\, einfach eine tolle Zeit haben 💃🕺\n🔝 Gekühlte Getränke zu günstigen Preisen an unserer Bar genießen 🍻🍹 \nWir freuen uns sehr auf Euch 🥰 \n♥️ Eure SERVUS Mädels ♥️
URL:https://tanzen-im-servus.de/event/discofox-party-10/
LOCATION:Servus Truchtlaching\, Chiemseestr. 3\, Truchtlaching\, Bayern\, 83376\, Deutschland
CATEGORIES:Parties
ATTACH;FMTTYPE=image/png:https://tanzen-im-servus.de/wp-content/uploads/2025/11/Bildschirmfoto-2025-11-08-um-18.41.06.png
END:VEVENT
END:VCALENDAR