BEGIN:VCALENDAR
VERSION:2.0
PRODID:-//Tanzen im Servus - ECPv6.0.12//NONSGML v1.0//EN
CALSCALE:GREGORIAN
METHOD:PUBLISH
X-WR-CALNAME:Tanzen im Servus
X-ORIGINAL-URL:https://tanzen-im-servus.de
X-WR-CALDESC:Veranstaltungen für Tanzen im Servus
REFRESH-INTERVAL;VALUE=DURATION:PT1H
X-Robots-Tag:noindex
X-PUBLISHED-TTL:PT1H
BEGIN:VTIMEZONE
TZID:UTC
BEGIN:STANDARD
TZOFFSETFROM:+0000
TZOFFSETTO:+0000
TZNAME:UTC
DTSTART:20260101T000000
END:STANDARD
END:VTIMEZONE
BEGIN:VEVENT
DTSTART;TZID=UTC:20260320T130000
DTEND;TZID=UTC:20260322T220000
DTSTAMP:20260424T221719
CREATED:20260113T164052Z
LAST-MODIFIED:20260113T164052Z
UID:3963-1774011600-1774216800@tanzen-im-servus.de
SUMMARY:Gitarren-Workshop & Konzert mit „Mr. Fingerpicking“ Peter Ratzenbeck in Truchtlaching
DESCRIPTION:Gitarren-Workshop & Konzert mit „Mr. Fingerpicking“ Peter Ratzenbeck in Truchtlaching \nEin musikalisches Highlight kündigt sich im Chiemgau an: Vom 20. bis 22. März \n2026 gastiert der österreichische Ausnahmegitarrist Peter Ratzenbeck – vielen bekannt \nals „Mr. Fingerpicking“ – im Eventstadl Servus in Truchtlaching. Präsentiert wird das \ndreitägige Event von Calathea Moments. \nRatzenbeck\, geboren 1955 in Graz\, gilt seit Jahrzehnten als einer der feinfühligsten und \ntechnisch versiertesten Akustikgitarristen im deutschsprachigen Raum. Presse und \nPublikum feiern ihn gleichermaßen und schmücken ihn mit Attributen wie „Österreichs \nParadegitarrist“\, „Phänomen der Musiklandschaft“ oder schlicht „Mr. Fingerpicking“. Seine \nKonzerte in Österreich\, Deutschland\, der Schweiz\, Irland und England ziehen seit Jahren \nein treues Publikum an – nicht zuletzt wegen seiner unverwechselbaren Mischung aus \nVirtuosität\, Humor und erdigem Charme. \nMit bislang 19 Soloalben und zahlreichen Studioarbeiten an der Seite namhafter Künstler – \ndarunter Reinhard Mey\, Andy Irvine\, Christina Lux und Horst Kroll – zählt Ratzenbeck zu \nden stilprägenden Gitarristen seines Genres. Aktuell arbeitet Peter Ratzenbeck außerdem \nan Filmmusik-Aufnahmen für die BBC. \nDer Autodidakt\, der als junger Straßenmusiker durch Europa zog und bis heute keine Noten \nliest\, begeistert durch musikalische Ehrlichkeit\, feine Motorik und sein unverkennbar \nwarmes Klangbild. \nNeben dem Konzert am Sonntag\, 22. März 2026 um 19:30 Uhr\, gibt Ratzenbeck an diesem \nWochenende einen intensiven\, dreitägigen Gitarren-Workshop\, der ambitionierten \nMusikerinnen und Musikern tiefen Einblick in die Kunst des Fingerpickings gewährt. Die \nTeilnahme ist auf 12 Plätze begrenzt. \nKonzert & Workshop – alle Details auf einen Blick \nOrt: Eventstadl „Servus“\, Chiemseestraße 3\, 83370 Truchtlaching \nWorkshop: \nFreitag\, 20. März 2026 · 13:00 Uhr \nbis Sonntag\, 22. März 2026 · 17:00 Uhr \nPreis: € 250 pro Teilnehmer zzgl. Verpflegungspauschale: € 60 \n(Max. 12 Teilnehmer) \nKonzert: \nSonntag\, 22. März 2026 · 19:30 Uhr \nTickets: VVK € 25 · AK € 30 \nKontakt & Anmeldung: \n📧 martin.lukas@calathea-moments.com \nWhatsApp: +49 175 150 5459📱 \nWeitere Infos zu Peter Ratzenbeck: \n👉 www.peter-ratzenbeck.at
URL:https://tanzen-im-servus.de/event/gitarren-workshop-konzert-mit-mr-fingerpicking-peter-ratzenbeck-in-truchtlaching/
CATEGORIES:Parties,Workshops
ATTACH;FMTTYPE=image/jpeg:https://tanzen-im-servus.de/wp-content/uploads/2026/01/IMG_3438.jpg
END:VEVENT
END:VCALENDAR