BEGIN:VCALENDAR
VERSION:2.0
PRODID:-//Tanzen im Servus - ECPv6.0.12//NONSGML v1.0//EN
CALSCALE:GREGORIAN
METHOD:PUBLISH
X-WR-CALNAME:Tanzen im Servus
X-ORIGINAL-URL:https://tanzen-im-servus.de
X-WR-CALDESC:Veranstaltungen für Tanzen im Servus
REFRESH-INTERVAL;VALUE=DURATION:PT1H
X-Robots-Tag:noindex
X-PUBLISHED-TTL:PT1H
BEGIN:VTIMEZONE
TZID:UTC
BEGIN:STANDARD
TZOFFSETFROM:+0000
TZOFFSETTO:+0000
TZNAME:UTC
DTSTART:20260101T000000
END:STANDARD
END:VTIMEZONE
BEGIN:VEVENT
DTSTART;TZID=UTC:20260314T183000
DTEND;TZID=UTC:20260315T010000
DTSTAMP:20260424T205931
CREATED:20251108T185518Z
LAST-MODIFIED:20260303T071434Z
UID:3793-1773513000-1773536400@tanzen-im-servus.de
SUMMARY:Salsa Bachata Kizomba Party - kostenloser Info-Workshop mit Sonia und Martina
DESCRIPTION:Salsa-Bachata-Kizomba – Party mit DJane AngelKizz \n-> kostenloser Info-Workshop über die Unterschiede im Kizomba mit Sonia und Martina \nwelche Musik gibt es? \nWie tanze ich richtig darauf? \n18:30 – 19:30 Uhr \nBeginn: 19:30 Uhr\nim Servus in Truchtlaching \nDarf gerne geteilt werden ☺️ \n🔝 beste Musik in familiärem Ambiente ❤️\n🔝 toller *NEUER* Tanzboden\n(Bitte nur mit sauberen Schuhen/Tanzschuhen betreten-DANKE 🙏)\n🔝 Qualität steht bei uns immer an erster Stelle! 🔝🔝🔝\n🔝 Tanzen\, Chillen\, Freunde treffen\, einfach eine tolle Zeit haben 💃🕺\n🔝 Gekühlte Getränke zu günstigen Preisen an unserer Bar genießen 🍻🍹 \nWir freuen uns sehr auf Euch 🥰 \n♥️ Eure SERVUS Mädels ♥️
URL:https://tanzen-im-servus.de/event/salsa-bachata-kizomba-party-3/
LOCATION:Servus Truchtlaching\, Chiemseestr. 3\, Truchtlaching\, Bayern\, 83376\, Deutschland
CATEGORIES:Parties,Workshops
ATTACH;FMTTYPE=image/png:https://tanzen-im-servus.de/wp-content/uploads/2025/11/Bildschirmfoto-2026-02-08-um-22.05.09.png
END:VEVENT
END:VCALENDAR