BEGIN:VCALENDAR
VERSION:2.0
PRODID:-//Tanzen im Servus - ECPv6.0.12//NONSGML v1.0//EN
CALSCALE:GREGORIAN
METHOD:PUBLISH
X-WR-CALNAME:Tanzen im Servus
X-ORIGINAL-URL:https://tanzen-im-servus.de
X-WR-CALDESC:Veranstaltungen für Tanzen im Servus
REFRESH-INTERVAL;VALUE=DURATION:PT1H
X-Robots-Tag:noindex
X-PUBLISHED-TTL:PT1H
BEGIN:VTIMEZONE
TZID:UTC
BEGIN:STANDARD
TZOFFSETFROM:+0000
TZOFFSETTO:+0000
TZNAME:UTC
DTSTART:20260101T000000
END:STANDARD
END:VTIMEZONE
BEGIN:VEVENT
DTSTART;TZID=UTC:20260308T123000
DTEND;TZID=UTC:20260308T153000
DTSTAMP:20260424T205916
CREATED:20260124T153628Z
LAST-MODIFIED:20260124T153628Z
UID:3971-1772973000-1772983800@tanzen-im-servus.de
SUMMARY:West Coast Swing - Beginner Workshop - mit Angela und Christian
DESCRIPTION:🤩Wir freuen uns sehr\, dass wir diese zwei hervorragenden Trainer für einen West Coast Swing Workshoptag gewinnen konnten. 🤩 \nAngela und Christian tanzen seit 15 Jahren aktiv in der Boogie Woogie Turnierszene für den Deutschen Rock’n’Roll und Boogie Woogie Verband. \nIhre besten Platzierungen waren international:\n🏆Platz 3 Weltmeisterschaft 🏆Platz 2 im World Cup\nzudem Platzierten sie sich auch auf Platz 1 in der Weltrangliste \n🏆National sind sie momentan amtierende Bayrische Meister und Deutsche Meister \nÜber die Jahre haben sie sich mit Boogie\, Bugg\, Lindy Hop und West Coast Swing ein breites Fundament erarbeitet\, dass ihre tänzerische Ausdrucksstärke und Musikalität prägt. \nMit West Coast Swing\, das auf aktuelle Musiktitel\, wie Modern Pop\, Disco oder Hip Hop getanzt wird\, haben sich die beiden inspirieren und in ihren Tanzstiel einwirken lassen. \n********************\n3 Stunden West Coast Swing Workshop\n12:30 – 15:30 Uhr\nfür jeden\, der WCS von Anfang an lernen möchte\n******************** \n39 Euro p. Person bei Paaranmeldung\n43 Euro p. Person bei Einzelanmeldung \nTanzstudio Servus\, Chiemseestraße 3\, 83376 Truchtlaching\nAnmeldung unter: 0162 927 0238\noder divinemsproject@gmail.com \nWir freuen uns sehr auf Euch 🥰 \n♥️ Eure SERVUS Mädels ♥️
URL:https://tanzen-im-servus.de/event/west-coast-swing-beginner-workshop-mit-angela-und-christian/
LOCATION:Servus Truchtlaching\, Chiemseestr. 3\, Truchtlaching\, Bayern\, 83376\, Deutschland
CATEGORIES:Workshops
ATTACH;FMTTYPE=image/png:https://tanzen-im-servus.de/wp-content/uploads/2026/01/Bildschirmfoto-2026-01-24-um-16.19.23.png
END:VEVENT
BEGIN:VEVENT
DTSTART;TZID=UTC:20260308T160000
DTEND;TZID=UTC:20260308T203000
DTSTAMP:20260424T205916
CREATED:20260128T152320Z
LAST-MODIFIED:20260303T071355Z
UID:3992-1772985600-1773001800@tanzen-im-servus.de
SUMMARY:Kizomba Party mit DJane AngelKizz
DESCRIPTION:Kizomba / Urban Kiz Party im SERVUS\n\nDJane AngelKizz legt für Euch auf  Partystart: dieses Mal erst um 16:00 Uhr\n\n🔝 beste Musik in familiärem Ambiente ❤️\n🔝 toller *NEUER* Tanzboden\n(Bitte nur mit sauberen Schuhen/Tanzschuhen betreten-DANKE 🙏)\n🔝 Qualität steht bei uns immer an erster Stelle! 🔝🔝🔝\n🔝 Tanzen\, Chillen\, Freunde treffen\, einfach eine tolle Zeit haben 💃🕺\n🔝 Gekühlte Getränke zu günstigen Preisen an unserer Bar genießen 🍻🍹 \nWir freuen uns sehr auf Euch 🥰 \n♥️ Eure SERVUS Mädels ♥️
URL:https://tanzen-im-servus.de/event/kizomba-party-mit-djane-angelkizz/
LOCATION:Servus Truchtlaching\, Chiemseestr. 3\, Truchtlaching\, Bayern\, 83376\, Deutschland
CATEGORIES:Parties
ATTACH;FMTTYPE=image/png:https://tanzen-im-servus.de/wp-content/uploads/2026/01/Bildschirmfoto-2026-01-28-um-16.21.28.png
END:VEVENT
END:VCALENDAR