BEGIN:VCALENDAR
VERSION:2.0
PRODID:-//Tanzen im Servus - ECPv6.0.12//NONSGML v1.0//EN
CALSCALE:GREGORIAN
METHOD:PUBLISH
X-WR-CALNAME:Tanzen im Servus
X-ORIGINAL-URL:https://tanzen-im-servus.de
X-WR-CALDESC:Veranstaltungen für Tanzen im Servus
REFRESH-INTERVAL;VALUE=DURATION:PT1H
X-Robots-Tag:noindex
X-PUBLISHED-TTL:PT1H
BEGIN:VTIMEZONE
TZID:UTC
BEGIN:STANDARD
TZOFFSETFROM:+0000
TZOFFSETTO:+0000
TZNAME:UTC
DTSTART:20260101T000000
END:STANDARD
END:VTIMEZONE
BEGIN:VEVENT
DTSTART;TZID=UTC:20260126T200000
DTEND;TZID=UTC:20260126T220000
DTSTAMP:20260424T221652
CREATED:20260104T154127Z
LAST-MODIFIED:20260104T154127Z
UID:3894-1769457600-1769464800@tanzen-im-servus.de
SUMMARY:Bachata und Salsa Cubana Workshops mit Yuni aus Kuba
DESCRIPTION:Yuni aus Kuba kommt endlich wieder nach Deutschland und ins SERVUS. Wir freuen uns sehr\, dass er wieder zwei Workshops geben wird. Was erwartet Dich: \n✅ detailierter Unterricht\n✅ Locker und entspannt – Spaß garantiert!\n✅ Tolle Atmosphäre \nVertiefe deine Salsa / Bachata Reise und melde Dich bei uns an!\n***********\n-> am Dienstag\, den 27.01.26 \n20:00 – 21:00 Uhr Bachata\n21:00 – 22:00 Uhr Salsa \n***********\nTeilnahme pro Workshop: 13 Euro\noder beide Workshops für 25 Euro \n-> Nur mit vorheriger Anmeldung !\n-> begrenzte Plätze \n0162-9270238 oder 0162-8562055 \n♥️ Wir freuen uns auf DICH ♥️
URL:https://tanzen-im-servus.de/event/bachata-und-salsa-cubana-workshops-mit-yuni-aus-kuba/
LOCATION:Servus Truchtlaching\, Chiemseestr. 3\, Truchtlaching\, Bayern\, 83376\, Deutschland
CATEGORIES:Workshops
ATTACH;FMTTYPE=image/png:https://tanzen-im-servus.de/wp-content/uploads/2026/01/Bildschirmfoto-2026-01-04-um-16.10.23.png
END:VEVENT
END:VCALENDAR