BEGIN:VCALENDAR
VERSION:2.0
PRODID:-//Tanzen im Servus - ECPv6.0.12//NONSGML v1.0//EN
CALSCALE:GREGORIAN
METHOD:PUBLISH
X-ORIGINAL-URL:https://tanzen-im-servus.de
X-WR-CALDESC:Veranstaltungen für Tanzen im Servus
REFRESH-INTERVAL;VALUE=DURATION:PT1H
X-Robots-Tag:noindex
X-PUBLISHED-TTL:PT1H
BEGIN:VTIMEZONE
TZID:UTC
BEGIN:STANDARD
TZOFFSETFROM:+0000
TZOFFSETTO:+0000
TZNAME:UTC
DTSTART:20260101T000000
END:STANDARD
END:VTIMEZONE
BEGIN:VEVENT
DTSTART;TZID=UTC:20260122T190000
DTEND;TZID=UTC:20260123T000000
DTSTAMP:20260424T232424
CREATED:20251229T164005Z
LAST-MODIFIED:20260109T120633Z
UID:3870-1769108400-1769126400@tanzen-im-servus.de
SUMMARY:Discofox Party in der Mia in Trostberg
DESCRIPTION:Let’s Dance!\n\n*MIA Trostberg meets Servus Truchtlaching* \nTanzleidenschaft und mitreißende Discofox-Beats.\nDJ Martina wird Euch ab 19 Uhr mit ansteckendem und abwechslungsreichem Discofox-Mix auf die Tanzfläche locken und den ganzen Abend für beste Stimmung sorgen.Nach Herzenslust tanzen\, erfrischende Cocktails genießen -selbstverständlich auch alkoholfrei- und einen perfekten Abend unter Freunden erleben.\n\nWir freuen uns auf Euch
URL:https://tanzen-im-servus.de/event/3870/
LOCATION:Mia Trostberg\, Trostberg
CATEGORIES:Parties
ATTACH;FMTTYPE=image/jpeg:https://tanzen-im-servus.de/wp-content/uploads/2025/12/600731562_1194097819486925_4602745535698648973_n.jpg
END:VEVENT
END:VCALENDAR