BEGIN:VCALENDAR
VERSION:2.0
PRODID:-//Tanzen im Servus - ECPv6.0.12//NONSGML v1.0//EN
CALSCALE:GREGORIAN
METHOD:PUBLISH
X-ORIGINAL-URL:https://tanzen-im-servus.de
X-WR-CALDESC:Veranstaltungen für Tanzen im Servus
REFRESH-INTERVAL;VALUE=DURATION:PT1H
X-Robots-Tag:noindex
X-PUBLISHED-TTL:PT1H
BEGIN:VTIMEZONE
TZID:UTC
BEGIN:STANDARD
TZOFFSETFROM:+0000
TZOFFSETTO:+0000
TZNAME:UTC
DTSTART:20260101T000000
END:STANDARD
END:VTIMEZONE
BEGIN:VEVENT
DTSTART;TZID=UTC:20260111T130000
DTEND;TZID=UTC:20260111T150000
DTSTAMP:20260424T232404
CREATED:20251113T201643Z
LAST-MODIFIED:20251113T201643Z
UID:3816-1768136400-1768143600@tanzen-im-servus.de
SUMMARY:Boogie Mittelstufe Workshop mit Gabi und Hans
DESCRIPTION:Wir freuen uns sehr Euch wieder einen Boogie Woogie Mittelstufe Workshop mit Gabi und Hans Prems im Servus in Truchtlaching anbieten zu können. \nGabi und Hans tanzen seit ca.1998 und seit 2008 Turniere in der Seniorenklasse. Sie waren Tänzer im Deutschen Nationalteam.\nIhre Erfolge:\nBayerische Vizemeister\, Deutsche Vizemeister\nWM und EM Endrundenteilnehmer\, jahrelange Worldcup-Teilnahmen. \n⭐️ 24 Euro ⭐️\nam Sonntag\, den 11.01.2026\n13:00 – 15:00 Uhr \nAnmeldung:\nSónia Handy: 0162 9270238\nE-Mail: divinemsproject@gmail.com \nWir freuen uns mega auf diesen tollen Boogie-Workshop
URL:https://tanzen-im-servus.de/event/boogie-mittelstufe-workshop-mit-gabi-und-hans/
LOCATION:Servus Truchtlaching\, Chiemseestr. 3\, Truchtlaching\, Bayern\, 83376\, Deutschland
CATEGORIES:Workshops
ATTACH;FMTTYPE=image/jpeg:https://tanzen-im-servus.de/wp-content/uploads/2025/11/IMG_2215.jpeg
END:VEVENT
BEGIN:VEVENT
DTSTART;TZID=UTC:20260111T133000
DTEND;TZID=UTC:20260111T210000
DTSTAMP:20260424T232405
CREATED:20251108T184717Z
LAST-MODIFIED:20260121T131908Z
UID:3788-1768138200-1768165200@tanzen-im-servus.de
SUMMARY:Speed Dating im SERVUS
DESCRIPTION:Hallo liebe Singles\,\n\n 𝐒𝐩𝐞𝐞𝐝_𝐃𝐚𝐭𝐢𝐧𝐠 𝐟ü𝐫 𝐒𝐢𝐧𝐠𝐥𝐞𝐬 𝐯𝐨𝐧 𝟑𝟎-𝟔𝟗 𝐉𝐚𝐡𝐫𝐞𝐧!\nBist du auf der Suche nach neuen Bekanntschaften oder vielleicht sogar der großen Liebe? Dann haben wir das perfekte Event für Dich!\nAm 25. 𝐉𝐚𝐧𝐮𝐚𝐫 𝟐𝟎𝟐𝟔 laden wir Dich zu einem aufregenden Speed-Dating-Abend ein.\n\n 𝐖𝐚𝐬 𝐃𝐢𝐜𝐡 𝐞𝐫𝐰𝐚𝐫𝐭𝐞𝐭:– Kurze\, spannende Gespräche mit gleichgesinnten Singles (7 Minuten)– Eine entspannte Atmosphäre\, in der du dich wohlfühlen kannst– Die Möglichkeit\, neue Freundschaften zu schließen oder vielleicht sogar die Liebe deines Lebens zu finden!\n\n 𝐖𝐨: im SERVUS in Truchtlaching 𝐖𝐚𝐧𝐧: 25. Januar 2026\n13:30 – 14:45 Uhr 60 – 69 Jahre15:30 – 16:45 Uhr 50 – 59 Jahre17:30 – 18:45 Uhr 40 – 49 Jahre19:30 – 20:45 Uhr 30 – 39 Jahre\n\n-> begrenzte Teilnehmerzahl pro Gruppe (10 Dates)-> mindestens 6 Dates pro Gruppe damit die jeweilige Gruppe stattfindet\nEinzelanmeldung: 20\,00 €Melde Dich mit einem Freund oder Freundin an und bezahle nur 15\,00 Euro pro Person -> inkl. einem Willkommens-Prosecco\n\n𝐀𝐛𝐥𝐚𝐮𝐟:Es sitzen immer eine Frau und ein Mann an einem Tisch.Nach 7 Minuten wechseln die Herren zum nächsten Tisch und die nächste Speed-Dating-Runde beginnt. Jeder Teilnehmer/in erhält eine Dating-Karte mit den Namen aller Teilnehmer\, dort kannst Du vermerken\, ob Du dein Gegenüber näher kennenlernen möchtest oder nicht. Dein Kontakt (Email oder Handynummer) wird dann bei einem gegenseitigem Match am nächsten Tag an Dein Date übermittelt.\nMelde dich jetzt an und sichere Dir Deinen Platz!\nLass uns gemeinsam einen unvergesslichen Abend verbringen. \n\n 𝐀𝐧𝐦𝐞𝐥𝐝𝐮𝐧𝐠 𝐮𝐧𝐝 𝐰𝐞𝐢𝐭𝐞𝐫𝐞 𝐈𝐧𝐟𝐨𝐫𝐦𝐚𝐭𝐢𝐨𝐧𝐞𝐧: divinemsproject@gmail.comHast Du noch Fragen ruf uns gern an unter: 0162/9270238 (Sonia) oder 0162/8562055 (Martina)\n\nWir freuen uns auf dich! \n Eure SERVUS Mädels Sonia und Martina
URL:https://tanzen-im-servus.de/event/speed-dating-im-servus-2/
LOCATION:Servus Truchtlaching\, Chiemseestr. 3\, Truchtlaching\, Bayern\, 83376\, Deutschland
CATEGORIES:Parties
ATTACH;FMTTYPE=image/png:https://tanzen-im-servus.de/wp-content/uploads/2025/11/Bildschirmfoto-2025-11-10-um-22.41.27-1.png
END:VEVENT
END:VCALENDAR