BEGIN:VCALENDAR
VERSION:2.0
PRODID:-//Tanzen im Servus - ECPv6.0.12//NONSGML v1.0//EN
CALSCALE:GREGORIAN
METHOD:PUBLISH
X-ORIGINAL-URL:https://tanzen-im-servus.de
X-WR-CALDESC:Veranstaltungen für Tanzen im Servus
REFRESH-INTERVAL;VALUE=DURATION:PT1H
X-Robots-Tag:noindex
X-PUBLISHED-TTL:PT1H
BEGIN:VTIMEZONE
TZID:UTC
BEGIN:STANDARD
TZOFFSETFROM:+0000
TZOFFSETTO:+0000
TZNAME:UTC
DTSTART:20260101T000000
END:STANDARD
END:VTIMEZONE
BEGIN:VEVENT
DTSTART;TZID=UTC:20260108T190000
DTEND;TZID=UTC:20260108T233000
DTSTAMP:20260424T232312
CREATED:20251108T174515Z
LAST-MODIFIED:20251204T202811Z
UID:3714-1767898800-1767915000@tanzen-im-servus.de
SUMMARY:Discofox Party
DESCRIPTION:Dieses Mal am 08.01. da der erste Donnerstag Neujahr ist Wir tanzen Discofox im SERVUS\n\nDJane Martina sorgt für beste und abwechslungsreiche Musik\n\n\n\n\nTanzstudio Servus\, Chiemseestraße 3\, 83376 Truchtlaching\n\n\n🔝 Qualität steht bei uns immer an erster Stelle!\n🔝über 100 Quadratmeter feinstes Tanzparkett\n🔝tolle abwechslungsreiche Musikauswahl\n🔝günstige Getränkepreise\n🔝einzigartiges und familiäres Ambiente\n🔝Lüftungsanlage\n🔝kostenlose Parkplätze \nKontakt: 0162 927 0238 \nWir freuen uns sehr auf Euch 🥰
URL:https://tanzen-im-servus.de/event/discofox-party-4/
LOCATION:Servus Truchtlaching\, Chiemseestr. 3\, Truchtlaching\, Bayern\, 83376\, Deutschland
CATEGORIES:Parties
ATTACH;FMTTYPE=image/png:https://tanzen-im-servus.de/wp-content/uploads/2025/11/Bildschirmfoto-2025-12-04-um-21.23.36.png
END:VEVENT
END:VCALENDAR