BEGIN:VCALENDAR
VERSION:2.0
PRODID:-//Tanzen im Servus - ECPv6.0.12//NONSGML v1.0//EN
CALSCALE:GREGORIAN
METHOD:PUBLISH
X-ORIGINAL-URL:https://tanzen-im-servus.de
X-WR-CALDESC:Veranstaltungen für Tanzen im Servus
REFRESH-INTERVAL;VALUE=DURATION:PT1H
X-Robots-Tag:noindex
X-PUBLISHED-TTL:PT1H
BEGIN:VTIMEZONE
TZID:UTC
BEGIN:STANDARD
TZOFFSETFROM:+0000
TZOFFSETTO:+0000
TZNAME:UTC
DTSTART:20260101T000000
END:STANDARD
END:VTIMEZONE
BEGIN:VEVENT
DTSTART;TZID=UTC:20260104T123000
DTEND;TZID=UTC:20260104T150000
DTSTAMP:20260424T232313
CREATED:20251123T115341Z
LAST-MODIFIED:20251123T115828Z
UID:3827-1767529800-1767538800@tanzen-im-servus.de
SUMMARY:Kizomba Beginner Workshop
DESCRIPTION:Was ist eigentlich Kizomba?\nKizomba ist ein faszinierender Paartanz\, der seinen Ursprung in Angola hat. Er wird zu rhythmischer Musik mit afrikanischen und portugiesischen Einflüssen getanzt. Charakteristisch sind fließende Bewegungen\, sowie eine klare Führung. Kizomba legt viel Wert auf Musikalität\, Präzision und ein gutes Zusammenspiel zwischen den Tanzpartnern. \n*Lerne von den Besten*\nLerne von erfahrenen Tanztrainern die sich in Portugal und auch Angola ausgebildet haben. Wir sind mittlerweile Ausbilder für Kizombatrainer beim Österreichischen Tanzlehrerkongress und diversen Tanzschulen. \nGerne teilen wir unsere Leidenschaft mit Dir zu diesem Tanz 💗 \n-> Anschließend Kizomba Party <- \n✅ detailierter Unterricht\n✅ Locker und entspannt – Spaß garantiert!\n✅ Tolle Atmosphäre \n*********** ***********\n-> Sonntag\, den 04.01.26 \n12:45 – 14:45 Uhr Kizomba Beginner\nDu lernst: Basics\, Musikverständnis\, Führungstechnik \n*********** *********** \nTeilnahme Workshop: 28 Euro \n-> Nur mit vorheriger Anmeldung !\n-> begrenzte Plätze \n0162-9270238 oder 0162-8562055 \n♥️ Wir freuen uns auf DICH ♥️
URL:https://tanzen-im-servus.de/event/kizomba-beginner-workshop/
LOCATION:Servus Truchtlaching\, Chiemseestr. 3\, Truchtlaching\, Bayern\, 83376\, Deutschland
CATEGORIES:Workshops
ATTACH;FMTTYPE=image/jpeg:https://tanzen-im-servus.de/wp-content/uploads/2025/11/night-club-party-flyer-6-Erstellt-mit-PosterMyWall.jpg
END:VEVENT
BEGIN:VEVENT
DTSTART;TZID=UTC:20260104T150000
DTEND;TZID=UTC:20260104T200000
DTSTAMP:20260424T232313
CREATED:20251108T184138Z
LAST-MODIFIED:20251108T184138Z
UID:3785-1767538800-1767556800@tanzen-im-servus.de
SUMMARY:Kizomba Party im SERVUS
DESCRIPTION:Kizomba / Urban Kiz Party im SERVUS \nDJane AngelKizz legt für Euch auf 😍 Partystart: 15:00 Uhr \nDarf gerne geteilt werden ☺️ \n🔝 beste Musik in familiärem Ambiente ❤️\n🔝 toller Tanzboden\n🔝 Qualität steht bei uns immer an erster Stelle! 🔝🔝🔝\n🔝 Tanzen\, Chillen\, Freunde treffen\, einfach eine tolle Zeit haben 💃🕺\n🔝 Gekühlte Getränke zu günstigen Preisen an unserer Bar genießen 🍻🍹 \nWir freuen uns sehr auf Euch 🥰 \n♥️ Eure SERVUS Mädels ♥️
URL:https://tanzen-im-servus.de/event/kizomba-party-im-servus-3/
LOCATION:Servus Truchtlaching\, Chiemseestr. 3\, Truchtlaching\, Bayern\, 83376\, Deutschland
CATEGORIES:Parties
ATTACH;FMTTYPE=image/png:https://tanzen-im-servus.de/wp-content/uploads/2025/11/Bildschirmfoto-2025-11-08-um-19.38.27.png
END:VEVENT
END:VCALENDAR