BEGIN:VCALENDAR
VERSION:2.0
PRODID:-//Tanzen im Servus - ECPv6.0.12//NONSGML v1.0//EN
CALSCALE:GREGORIAN
METHOD:PUBLISH
X-WR-CALNAME:Tanzen im Servus
X-ORIGINAL-URL:https://tanzen-im-servus.de
X-WR-CALDESC:Veranstaltungen für Tanzen im Servus
REFRESH-INTERVAL;VALUE=DURATION:PT1H
X-Robots-Tag:noindex
X-PUBLISHED-TTL:PT1H
BEGIN:VTIMEZONE
TZID:UTC
BEGIN:STANDARD
TZOFFSETFROM:+0000
TZOFFSETTO:+0000
TZNAME:UTC
DTSTART:20250101T000000
END:STANDARD
END:VTIMEZONE
BEGIN:VEVENT
DTSTART;TZID=UTC:20251129T100000
DTEND;TZID=UTC:20251130T150000
DTSTAMP:20260425T020029
CREATED:20250618T112533Z
LAST-MODIFIED:20250618T124825Z
UID:3413-1764410400-1764514800@tanzen-im-servus.de
SUMMARY:Tanz Dich glücklich! Standard & Latein Workshop Wochenende inkl. DF Party
DESCRIPTION:„Tanz dich glücklich!“ Dein Einstieg in die Welt von Standard & Latein mit Sabrina\n\n-> Samstag Abend Discofox Party – ab 19:00 Uhr\n\ns. Link: https://www.facebook.com/share/15UCVzyEiB/?mibextid=wwXIfr\n\n\nEgal ob du noch nie einen Walzer gedreht hast oder denkst\, Cha-Cha-Cha ist ein Getränk: Bei uns bist du genau richtig!Unser Anfängerkurs für Gesellschaftstanz bringt dich mit viel Spaß und guter Laune auf das Parkett.\n\nWas dich erwartet:• Coole Moves statt steifer Schritte• Musik von klassisch bis modern• Einfache Basics in Standard (z. B. Langsamer Walzer\, Foxtrott „Quickstep) und Latein (z. B. Cha-Cha\, Rumba) der Disco Fox darf natürlich auch nicht fehlen• Eine humorvolle Tanzlehrerin\, die selbst aus zwei linken Füßen ein Dreamteam macht• Tanzen mit oder ohne festen Partner möglich!\nWer kann mitmachen?Als Paar\, mit Freunden\, im Solo oder neugieriger Beginner (wir helfen bei der Tanzpartnersuche).\nWann und wo?\n\nSamstag\, 29. November 2025 – Vormittag Latein/Nachmittag Standard\nSonntag\, 30. November 2025 – Vormittag Standard/Nachmittag Latein\n\n*********************************Komplettes Wochenende (6 Stunden): 90 Euro p. P.Paaranmeldung: 85 Euro p. P.                        *********einTag (3 Stunden): 48 Euro p. P.Paaranmeldung: 45 Euro p. P.\nund ganz viel gute Laune inklusive!\n*********************************\nDer Sonntag baut auf den Samstag auf. Wir wiederholen und packen nochmal neues mit drauf!\nLet’s dance – aber mit Stil(und einem Augenzwinkern)!\n\nJetzt anmelden und die Tanzfläche erobern:Kontakt: 0162 8562055\n\nab 19:00 Uhr Discofox Party im SERVUS in Truchtlaching\n\nWir freuen uns sehr auf EUCH
URL:https://tanzen-im-servus.de/event/3413/
LOCATION:Servus Truchtlaching\, Chiemseestr. 3\, Truchtlaching\, Bayern\, 83376\, Deutschland
CATEGORIES:Parties,Workshops
ATTACH;FMTTYPE=image/png:https://tanzen-im-servus.de/wp-content/uploads/2025/06/Bildschirmfoto-2025-06-18-um-13.20.08.png
END:VEVENT
BEGIN:VEVENT
DTSTART;TZID=UTC:20251130T150000
DTEND;TZID=UTC:20251130T200000
DTSTAMP:20260425T020029
CREATED:20251116T123544Z
LAST-MODIFIED:20251116T123544Z
UID:3820-1764514800-1764532800@tanzen-im-servus.de
SUMMARY:Kizomba Party
DESCRIPTION:Kizomba / Urban Kiz Party im SERVUS\n\nPartystart: 15:00 Uhr\n\n beste Musik in familiärem Ambiente  toller Tanzboden Qualität steht bei uns immer an erster Stelle!  Tanzen\, Chillen\, Freunde treffen\, einfach eine tolle Zeit haben  Gekühlte Getränke zu günstigen Preisen an unserer Bar genießen \n\nWir freuen uns sehr auf Euch \n\n Eure SERVUS Mädels
URL:https://tanzen-im-servus.de/event/kizomba-party-3/
LOCATION:Servus Truchtlaching\, Chiemseestr. 3\, Truchtlaching\, Bayern\, 83376\, Deutschland
CATEGORIES:Parties
ATTACH;FMTTYPE=image/png:https://tanzen-im-servus.de/wp-content/uploads/2025/11/Bildschirmfoto-2025-11-16-um-13.31.44.png
END:VEVENT
END:VCALENDAR